BEGIN:VCALENDAR
VERSION:2.0
PRODID:-//New York Wines - ECPv6.15.20//NONSGML v1.0//EN
CALSCALE:GREGORIAN
METHOD:PUBLISH
X-WR-CALNAME:New York Wines
X-ORIGINAL-URL:https://newyorkwines.org
X-WR-CALDESC:Events for New York Wines
REFRESH-INTERVAL;VALUE=DURATION:PT1H
X-Robots-Tag:noindex
X-PUBLISHED-TTL:PT1H
BEGIN:VTIMEZONE
TZID:America/New_York
BEGIN:DAYLIGHT
TZOFFSETFROM:-0500
TZOFFSETTO:-0400
TZNAME:EDT
DTSTART:20210314T070000
END:DAYLIGHT
BEGIN:STANDARD
TZOFFSETFROM:-0400
TZOFFSETTO:-0500
TZNAME:EST
DTSTART:20211107T060000
END:STANDARD
BEGIN:DAYLIGHT
TZOFFSETFROM:-0500
TZOFFSETTO:-0400
TZNAME:EDT
DTSTART:20220313T070000
END:DAYLIGHT
BEGIN:STANDARD
TZOFFSETFROM:-0400
TZOFFSETTO:-0500
TZNAME:EST
DTSTART:20221106T060000
END:STANDARD
BEGIN:DAYLIGHT
TZOFFSETFROM:-0500
TZOFFSETTO:-0400
TZNAME:EDT
DTSTART:20230312T070000
END:DAYLIGHT
BEGIN:STANDARD
TZOFFSETFROM:-0400
TZOFFSETTO:-0500
TZNAME:EST
DTSTART:20231105T060000
END:STANDARD
END:VTIMEZONE
BEGIN:VEVENT
DTSTART;TZID=America/New_York:20220503T093000
DTEND;TZID=America/New_York:20220503T123000
DTSTAMP:20260424T011227
CREATED:20220322T172846Z
LAST-MODIFIED:20220322T172846Z
UID:10000672-1651570200-1651581000@newyorkwines.org
SUMMARY:Tasting Room Best Practices – Essential Tools for 2022
DESCRIPTION:The workshop focuses on the most prudent areas for increasing sales skills.\n\n\n\n\n\nAbout this event\n\n\nThe Tasting Room Best Practices Essential workshop from WISE\, specifically for NYWGF Members\, focuses on the most prudent areas for increasing sales skills in 2022. This includes raising the bar for your entire team with the WISE Triple Score – asking for the order\, effectively presenting and selling the wine club\, as well as collecting contact data – all in a brand-appropriate way. Give your team members the resources and build confidence in leveraging your brand\, winery & wine knowledge into exceptional customer service and sales skills. \nTopics will include these sales skills. \n\nLeveraging Your Brand.\nUnderstanding Your Guests\nBuilding Rapport\nNoticing Buying Signals\nAlways Be Selling (wine\, clubs and capturing data)\nFeatures & Benefits Selling\nCodifying Your Sales Successes\nIdentifying Buying Signals\nMore\n\n*Session is open to Wineries and Growers Only. \nClick Here to Register \n**FREE for Tier 2 and 3 Members; $100 for Tier 1 Members; $150 for Non-Members \n\n\nOUR PRESENTER: Liz Mercer \, VP of Sales & Marketing\, Judd’s Hill Winery and WISE Coach & Content Developer \nHaving grown up in the Napa Valley\, Liz always knew it would be her forever home. She spent eight years in the mid-west (Detroit)\, before coming home to roost. With a unique background having a degree in Finance & Business Management\, and 18 years’ experience in Direct to Consumer Experience marketing\, she approaches the multiple needs of the business balancing the business and guest needs. Her career includes time with Diageo and Pernod Ricard\, followed by nearly six years with Gallo\, and to a small family owned luxury brand. Formally the General Manager of Bluxome Street Winery for 3 years\, an urban winery located in the SOMA neighborhood of San Francisco\, Liz is now the VP of Sales & Marketing at a small brand in Napa\, Judd’s Hill Winery. Liz can relate to the challenges faced by large\, publicly traded wineries\, corporate family owned wineries\, and to smaller family owned brands. That breadth of experience has allowed Liz to see how different strategies work for different brands and implement the right solution. She is also an active contributor and instructor for the WISE Academy\, which seeks to grow the skills of DTC professionals and managers at all levels across the country.
URL:https://newyorkwines.org/event/tasting-room-best-practices-essential-tools-for-2022/
LOCATION:NY
CATEGORIES:Enhanced Webinar
ATTACH;FMTTYPE=image/png:https://newyorkwines.org/wp-content/uploads/2021/02/logo-wise-academy-sticky-1.png
ORGANIZER;CN="New York Wine & Grape Foundation":MAILTO:info@newyorkwines.org
GEO:40.7127753;-74.0059728
END:VEVENT
BEGIN:VEVENT
DTSTART;TZID=America/New_York:20220503T120000
DTEND;TZID=America/New_York:20220503T133000
DTSTAMP:20260424T011227
CREATED:20211014T175441Z
LAST-MODIFIED:20220928T171640Z
UID:10000657-1651579200-1651584600@newyorkwines.org
SUMMARY:New York State of Wine: Chardonnay Show Down
DESCRIPTION:New York State of Wine is back with a whole new look. This second series spotlights New York’s prized grape varieties alongside examples from top-producing regions around the world. \nCrafted in New York\, but inspired from everywhere\, New York is a unique community of passionate producers who approach winemaking with a multitude of personalities and backgrounds—they’re not alike\, and they like it that way. Wine has been made in New York since the 17th century and its unique history of hybrid cultivars paired with an increasing amount of planted Vitis vinifera has positioned the region as one of the most diverse and resilient. In New York wines you’ll find subtlety\, depth and nuance; it’s no surprise that they’ve found a place on the global stage\, alongside other great wine regions of the world. These sessions will take a look at New York’s star varieties side by side with other great wine regions of the world\, exploring the common threads as well as the varied approaches to viticulture and winemaking.
URL:https://newyorkwines.org/event/new-york-state-of-wine-chardonnay-show-down/
LOCATION:Virtual Event
CATEGORIES:Trade & Media Events,Virtual Tasting
ATTACH;FMTTYPE=image/png:https://newyorkwines.org/wp-content/uploads/2021/10/New-York-State-of-Wine-2-Header-13.png
ORGANIZER;CN="New York Wine & Grape Foundation":MAILTO:info@newyorkwines.org
END:VEVENT
END:VCALENDAR