BEGIN:VCALENDAR
VERSION:2.0
PRODID:-//New York Wines - ECPv6.15.20//NONSGML v1.0//EN
CALSCALE:GREGORIAN
METHOD:PUBLISH
X-ORIGINAL-URL:https://newyorkwines.org
X-WR-CALDESC:Events for New York Wines
REFRESH-INTERVAL;VALUE=DURATION:PT1H
X-Robots-Tag:noindex
X-PUBLISHED-TTL:PT1H
BEGIN:VTIMEZONE
TZID:America/New_York
BEGIN:DAYLIGHT
TZOFFSETFROM:-0500
TZOFFSETTO:-0400
TZNAME:EDT
DTSTART:20230312T070000
END:DAYLIGHT
BEGIN:STANDARD
TZOFFSETFROM:-0400
TZOFFSETTO:-0500
TZNAME:EST
DTSTART:20231105T060000
END:STANDARD
BEGIN:DAYLIGHT
TZOFFSETFROM:-0500
TZOFFSETTO:-0400
TZNAME:EDT
DTSTART:20240310T070000
END:DAYLIGHT
BEGIN:STANDARD
TZOFFSETFROM:-0400
TZOFFSETTO:-0500
TZNAME:EST
DTSTART:20241103T060000
END:STANDARD
BEGIN:DAYLIGHT
TZOFFSETFROM:-0500
TZOFFSETTO:-0400
TZNAME:EDT
DTSTART:20250309T070000
END:DAYLIGHT
BEGIN:STANDARD
TZOFFSETFROM:-0400
TZOFFSETTO:-0500
TZNAME:EST
DTSTART:20251102T060000
END:STANDARD
END:VTIMEZONE
BEGIN:VEVENT
DTSTART;VALUE=DATE:20240412
DTEND;VALUE=DATE:20240423
DTSTAMP:20260420T034704
CREATED:20240306T210501Z
LAST-MODIFIED:20240419T185554Z
UID:10001176-1712880000-1713830399@newyorkwines.org
SUMMARY:Long Island Wine Country Locals Wine Week
DESCRIPTION:BRIDGE LANE WINE:\nBuy one tasting flight\, get one complimentary tasting flight \n\n\n\n\n\n\n\n\n\n\n\n\n\n\n\n\n\n\n\nCHANNING DAUGHTERS WINERY:\nBuy one tasting flight\, get one complimentary tasting flight \n\n\n\n\n\n\n\n\n\n\n\n\n\n\n\n\n\n\n\nCHRONICLE WINES:\nBuy one tasting flight\, get one complimentary tasting flight \n+ 10% off bottles \n\n\n\n\n\n\n\n\n\n\n\n\n\n\n\n\n\n\n\nDUCK WALK VINEYARDS:\nBuy one tasting flight\, get one complimentary tasting flight \n\n\n\n\n\n\n\n\n\n\n\n\n\n\n\n\n\n\n\nEV&EM VINEYARDS:\nBuy one tasting flight\, get one complimentary tasting flight \n\n\n\n\n\n\n\n\n\n\n\n\n\n\n\n\n\n\n\nFIRE ISLAND VINES:\nBuy one tasting flight\, get one complimentary tasting flight \n\n\n\n\n\n\n\n\n\n\n\n\n\n\n\n\n\n\n\nJASON’S VINEYARD:\nBuy one tasting flight\, get one complimentary tasting flight \n\n\n\n\n\n\n\n\n\n\n\n\n\n\n\n\n\n\n\nLENZ WINERY:\nBuy one tasting flight\, get one complimentary tasting flight \n\n\n\n\n\n\n\n\n\n\n\n\n\n\n\n\n\n\n\nMCCALL WINES:\nBuy one tasting flight\, get one complimentary tasting flight + \n15% discount on purchased bottles \n\n\n\n\n\n\n\n\n\n\n\n\n\n\n\n\n\n\n\nOSPREY’S DOMINON VINEYARD:\nBuy one tasting flight\, get one complimentary tasting flight \n\n\n\n\n\n\n\n\n\n\n\n\n\n\n\n\n\n\n\nPALMER VINEYARDS:\nBuy one tasting flight\, get one complimentary tasting flight \n\n\n\n\n\n\n\n\n\n\n\n\n\n\n\n\n\n\n\nPAUMANOK VINEYARDS:\nBuy one tasting flight\, get one complimentary tasting flight \n\n\n\n\n\n\n\n\n\n\n\n\n\n\n\n\n\n\n\nPELLEGRINI VINEYARDS:\nBuy one tasting flight\, get one complimentary tasting flight \n\n\n\n\n\n\n\n\n\n\n\n\n\n\n\n\n\n\n\nPINDAR VINEYARDS:\nBuy one tasting flight\, get one complimentary tasting flight \n\n\n\n\n\n\n\n\n\n\n\n\n\n\n\n\n\n\n\nRAPHAEL VINEYARD & WINERY:\nBuy one tasting flight\, get one complimentary tasting flight \n\n\n\n\n\n\n\n\n\n\n\n\n\n\n\n\n\n\n\nRG|NY:\nBuy one tasting flight\, get one complimentary tasting flight + 10% off in-house bottles. \n  \nLeo\, our viticulturist\, will offer an interactive tasting/discussion on our sustainable vineyard and winemaking practices – we call it “Behind the Bottle\,” use code BTB15OFF on bookings for this experience throughout April to celebrate Earth Day with us. \n\n\n\n\n\n\n\n\n\n\n\n\n\n\n\n\n\n\n\nSANNINO VINEYARD:\nBuy one tasting flight\, get one complimentary tasting flight + \n10% off bottles to go \n\n\n\n\n\n\n\n\n\n\n\n\n\n\n\n\n\n\n\nSPARKLING POINTE:\nBuy one tasting flight\, get one complimentary tasting flight \n\n\n\n\n\n\n\n\n\n\n\n\n\n\n\n\n\n\n\nSUHRU WINES:\nBuy one tasting flight\, get one complimentary tasting flight \n\n\n\n\n\n\n\n\n\n\n\n\n\n\n\n\n\n\n\nWÖLFFER ESTATE VINEYARD:\nBuy one tasting flight\, get one complimentary tasting flight
URL:https://newyorkwines.org/event/long-island-wine-country-locals-wine-week/
LOCATION:Long Island Wine Country
CATEGORIES:Wine Trail Events
ATTACH;FMTTYPE=image/jpeg:https://newyorkwines.org/wp-content/uploads/2024/03/LIWC-Locals-Flyer_BANNER-2024_V3-1536x891-1.jpg
END:VEVENT
BEGIN:VEVENT
DTSTART;TZID=America/New_York:20240416T090000
DTEND;TZID=America/New_York:20240416T100000
DTSTAMP:20260420T034704
CREATED:20240301T193612Z
LAST-MODIFIED:20240301T193612Z
UID:10000805-1713258000-1713261600@newyorkwines.org
SUMMARY:Making the Most of NYWGF Membership Benefits
DESCRIPTION:Join members of our Foundation staff to learn about all of your benefits and savings as a member! \n\n\n\n\n\n\n\n\nJoin us on Tue Apr 16\, 2024 at 09:00 AM EST for an exciting online event where we will dive into all the amazing perks and benefits that come with your NYWGF membership. \nLearn how to maximize your membership benefits\, network with industry professionals\, and take advantage of exclusive opportunities only available to NYWGF members. \nWhether you’re a seasoned member or new to the NYWGF community\, this event is perfect for anyone looking to enhance their experience and make the most of what NYWGF has to offer. \nDon’t miss out on this valuable opportunity to connect\, learn\, and grow with NYWGF! \nThis session will provide you with: \n\nAn update on the package of benefits included in each of our Membership Tiers\nAn update on our new promotional resources and how to leverage them to promote your winery or growing region.\nA brief policy update from our Executive Director\n\nWe will generally have about 30-40 minutes for the presentation with additional time for questions\, comments and suggestions for future programming. \nWe look forward to having you join us! \nPresenters: \n\nJennifer Cooper\, Membership & Events Manager\nSam Filler\, Executive Director\nValerie Ross\, Director of Programs & Marketing\n\n\n\n\n\n\n\n  \nRegister Here
URL:https://newyorkwines.org/event/making-the-most-of-nywgf-membership-benefits/
CATEGORIES:Industry Events,Info Session
ATTACH;FMTTYPE=image/png:https://newyorkwines.org/wp-content/uploads/2024/03/Informational-1.png
LOCATION:https://newyorkwines.org/event/making-the-most-of-nywgf-membership-benefits/
END:VEVENT
END:VCALENDAR