BEGIN:VCALENDAR
VERSION:2.0
PRODID:-//New York Wines - ECPv6.15.20//NONSGML v1.0//EN
CALSCALE:GREGORIAN
METHOD:PUBLISH
X-WR-CALNAME:New York Wines
X-ORIGINAL-URL:https://newyorkwines.org
X-WR-CALDESC:Events for New York Wines
REFRESH-INTERVAL;VALUE=DURATION:PT1H
X-Robots-Tag:noindex
X-PUBLISHED-TTL:PT1H
BEGIN:VTIMEZONE
TZID:America/New_York
BEGIN:DAYLIGHT
TZOFFSETFROM:-0500
TZOFFSETTO:-0400
TZNAME:EDT
DTSTART:20240310T070000
END:DAYLIGHT
BEGIN:STANDARD
TZOFFSETFROM:-0400
TZOFFSETTO:-0500
TZNAME:EST
DTSTART:20241103T060000
END:STANDARD
BEGIN:DAYLIGHT
TZOFFSETFROM:-0500
TZOFFSETTO:-0400
TZNAME:EDT
DTSTART:20250309T070000
END:DAYLIGHT
BEGIN:STANDARD
TZOFFSETFROM:-0400
TZOFFSETTO:-0500
TZNAME:EST
DTSTART:20251102T060000
END:STANDARD
BEGIN:DAYLIGHT
TZOFFSETFROM:-0500
TZOFFSETTO:-0400
TZNAME:EDT
DTSTART:20260308T070000
END:DAYLIGHT
BEGIN:STANDARD
TZOFFSETFROM:-0400
TZOFFSETTO:-0500
TZNAME:EST
DTSTART:20261101T060000
END:STANDARD
BEGIN:DAYLIGHT
TZOFFSETFROM:-0500
TZOFFSETTO:-0400
TZNAME:EDT
DTSTART:20270314T070000
END:DAYLIGHT
BEGIN:STANDARD
TZOFFSETFROM:-0400
TZOFFSETTO:-0500
TZNAME:EST
DTSTART:20271107T060000
END:STANDARD
END:VTIMEZONE
BEGIN:VEVENT
DTSTART;VALUE=DATE:20251201
DTEND;VALUE=DATE:20260201
DTSTAMP:20260425T234236
CREATED:20251217T214808Z
LAST-MODIFIED:20251217T214918Z
UID:10001764-1764547200-1769903999@newyorkwines.org
SUMMARY:2026 Hudson Valley Wine Tasting Passport
DESCRIPTION:Passport is valid from January 1 through August 31\, 2026\n\n\nSAVE $50 WHEN YOU PRE-ORDER OUR 2-PACK NOW. \nOne price\, double the fun with the SWT Two-Pack! \nSAVE $10 WHEN YOU PRE-ORDER ONE PASSPORT NOW. \nPre-Sale Orders are Guaranteed to Arrive Before the Holidays. \n\n\n\n\nSavor a variety of offerings – from new releases and rare vintages to\nmulti-award-winning local and international favorites at these member locations.\n\n\n\n\nAll grown and handcrafted right here in the Hudson Valley.
URL:https://newyorkwines.org/event/2026-hudson-valley-wine-tasting-passport/
CATEGORIES:Wine Trail Events
ATTACH;FMTTYPE=image/jpeg:https://newyorkwines.org/wp-content/uploads/2024/07/SWT-Wine-Tasting-Passport-2023.jpg
END:VEVENT
BEGIN:VEVENT
DTSTART;VALUE=DATE:20251201
DTEND;VALUE=DATE:20260201
DTSTAMP:20260425T234236
CREATED:20251217T220359Z
LAST-MODIFIED:20251217T220450Z
UID:10001770-1764547200-1769903999@newyorkwines.org
SUMMARY:Cayuga Lake Wine Trail 2026 Season Pass
DESCRIPTION:Cayuga Lake Wine Trail Season Pass\nIntroducing the Cayuga Lake Wine Trail Season Pass — your discounted access to all five of our annual events for the year. One purchase secures your spot at: \n\nGalentine’s Weekend — February 13 & 14\nA festive\, feel-good weekend celebrating friendship with wine\, treats\, and fun extras along the trail.\nPinch & Pour — February 21 & 22\nA culinary-inspired event pairing Cayuga Lake wines with bold flavors\, spices\, and savory bites.\nBacon on the Lake-in — March 21 & 22\nA fan-favorite weekend featuring creative bacon dishes paired with wines at every stop.\nWine & Herb — April 24–26 or May 1–5\nA springtime tradition combining wine tastings with fresh herbs\, recipes\, and seasonal inspiration.\nHoliday Shopping Spree — November 20–22 or December 4–6\nA festive holiday trail experience featuring wine tastings\, exclusive discounts\, and collectible keepsakes.\n\nA Season Pass guarantees your place\, locks in savings\, and delivers a full year of curated food-and-wine experiences along Cayuga Lake. \nLearn more at cayugawinetrail.com/events/trail/2026-season-pass
URL:https://newyorkwines.org/event/cayuga-lake-wine-trail-2026-season-pass/
CATEGORIES:Wine Trail Events
ATTACH;FMTTYPE=image/png:https://newyorkwines.org/wp-content/uploads/2025/12/2026-events-11-by-17-1-Cayuga-Lake-Wine-Trail.png
END:VEVENT
BEGIN:VEVENT
DTSTART;VALUE=DATE:20251201
DTEND;VALUE=DATE:20260401
DTSTAMP:20260425T234236
CREATED:20240702T185526Z
LAST-MODIFIED:20251217T212314Z
UID:10001760-1764547200-1775001599@newyorkwines.org
SUMMARY:Paws & Pours Keuka Lake Wine Trail Tasting Passport
DESCRIPTION:A DOG-FRIENDLY EXPERIENCE\n\n\nDrink wine\, raise funds for animals in need!\n\n\nPaws & Pours is a fundraising initiative and our way of showing a warm welcome to you and your pups! Your purchase of this pass will go toward helping local animals at the Humane Society of Yates County in Penn Yan. All our member wineries are dog-friendly! \nThis pass is 100% digital and you don’t need to download an app to use it. With this pass\, everyone including the dogs will benefit. Human family members over the age of 21 will receive $2 off any glass of wine or wine flight at each participating winery\, and the dogs will get a small treat for being a great companion. \nGrab this pass for $15.00 and start exploring the Keuka Lake Wine Trail without leaving the furry family members at home. Enjoy the convenience and discounts while you make those core memories. \nPartial proceeds of pass sales are donated to the Humane Society of Yates County – Shelter of Hope.  \nPurchase your Paws & Pours Keuka Lake Tasting Passport Here
URL:https://newyorkwines.org/event/paws-pours-keuka-lake-wine-trail-tasting-passport/
CATEGORIES:Wine Trail Events
ATTACH;FMTTYPE=image/png:https://newyorkwines.org/wp-content/uploads/2024/07/Screenshot-2024-07-02-145246.png
END:VEVENT
BEGIN:VEVENT
DTSTART;VALUE=DATE:20251205
DTEND;VALUE=DATE:20251208
DTSTAMP:20260425T234236
CREATED:20250516T193237Z
LAST-MODIFIED:20250519T163747Z
UID:10001683-1764892800-1765151999@newyorkwines.org
SUMMARY:December Deck the Halls on the Seneca Lake Wine Trail
DESCRIPTION:Celebrate the holiday season with Deck the Halls on the Seneca Lake Wine Trail! \nDuring this event\, you’ll enjoy a self-guided tour of participating Seneca Lake Wine Trail wineries decked out for the holiday season\, sampling delicious wine and food pairings and collecting ornaments at each stop. \nThis event sells out every year. Get your tickets early to avoid disappointment! \nHave questions? CLICK HERE to view answers to frequently asked questions. \nDates and Event Timing:  \nFriday\, December 5\, 2025: 12pm – 5pm\nSaturday\, December 6\, 2025: 10am – 5pm\nSunday\, December 7\, 2025: 10am – 5pm \nTickets are good for all three days. We encourage you to spread your winery visits out.  This is for the second weekend of Deck the Halls – we host two separate weekends for this event. Be sure to select the correct one as tickets cannot be exchanged between the two. \nGroup Size Maximum \nThe maximum group size for this event is 6 people\, including tasters and DD ticketholders. Please do not travel in groups larger than 6. \nParticipating Wineries: \nWhite Springs Winery \nFox Run Vineyards \nSeneca Shore Wine Cellars \nTabora Farm & Winery \nFruit Yard Winery \nGlenora Wine Cellars \nFulkerson Winery \nToast Winery \nLakewood Vineyards \nCastel Grisch Winery \nJ.R. Dill Winery \nLeidenfrost Vineyards \nHazlitt 1852 Vineyards \nWagner Vineyards \nIdol Ridge Winery \nBoundary Breaks Vineyard \nThree Brothers Wineries & Estates \n  \nLearn more and register here!
URL:https://newyorkwines.org/event/december-deck-the-halls-2/
CATEGORIES:Wine Trail Events
ATTACH;FMTTYPE=image/png:https://newyorkwines.org/wp-content/uploads/2025/05/Screenshot-2025-05-16-152556.png
END:VEVENT
BEGIN:VEVENT
DTSTART;VALUE=DATE:20251206
DTEND;VALUE=DATE:20251208
DTSTAMP:20260425T234236
CREATED:20250519T163253Z
LAST-MODIFIED:20250519T163308Z
UID:10001689-1765008000-1765126800@newyorkwines.org
SUMMARY:Holiday Fineries at the Wineries on the Shawangunk Wine Trail
DESCRIPTION:SAVE THE DATE!\n\n\nNovember 22-23\, December 6-7\, December 13-14\, 2025\nSign up for our e-news below to receive updates on early bird tickets! \nGather your friends and step into the magic of the season as you sip your way through our festively decorated wineries while discovering the perfect wines for your celebrations. This beloved event sells out quickly—secure your tickets and make it a holiday tradition! \n\n\n  \nLearn more and register here!
URL:https://newyorkwines.org/event/holiday-fineries-at-the-wineries-on-the-shawangunk-wine-trail/2025-12-06/
CATEGORIES:Wine Trail Events
ATTACH;FMTTYPE=image/jpeg:https://newyorkwines.org/wp-content/uploads/2025/05/Shawangunk-Wine-Trail-Holiday-Fineries-1024px-2.jpg
END:VEVENT
BEGIN:VEVENT
DTSTART;VALUE=DATE:20251206
DTEND;VALUE=DATE:20251208
DTSTAMP:20260425T234236
CREATED:20250519T163633Z
LAST-MODIFIED:20250519T163720Z
UID:10001693-1765008000-1765126800@newyorkwines.org
SUMMARY:2025 Holiday Shopping Spree on the Cayuga Lake Wine Trail
DESCRIPTION:The Holiday Shopping Spree is Back for Another Year of Festive Fun! \nGet ready to sip\, shop\, and save as you explore the Cayuga Lake Wine Trail! Treat yourself while shopping for others\, crossing gifts off your list as you sample before you buy. Your Holiday Shoppers Card unlocks exclusive savings\, plus you’ll receive a souvenir wine glass\, a set of ornaments\, wine and food pairings\, a printed recipe book\, and $5 off a $35 wine purchase at every winery. \nJoin us in our festive wonderland for a delightful Holiday Shopping Spree! \n📅 Event Dates:\n🗓️ November 22 & 23 and December 6 & 7\n⏰ 10:00 AM to 5:00 PM\n🍷 10 Participating Wineries \n🔹 How It Works: \n\nChoose a starting winery for you and your friends. This is where you’ll receive your souvenir wine glass and first ornament!\nAfter your first stop\, travel the trail at your own pace.\nYour ticket is good for both days—spread out your visits or come just Saturday or Sunday. (Pro tip: Sundays tend to be quieter\, offering more one-on-one time and shorter wait times!)\n\n⚠️ Important Event Details: \n\nGroup limit: 12 people. Larger groups risk being turned away. Please respect winery policies to ensure a great experience for all.\nTasting experiences will vary. Some wineries offer standard bar tastings\, while others provide sit-down experiences that may take longer—take your time and enjoy the variety!\nTickets are non-refundable.\n\n🎟️ Tickets & Pricing:\nEach ticket is good for the whole weekend and allows one visit to each winery. \n\nSingle Ticket: $65 (plus tax & service fee)\nCouples Ticket: $95 (plus tax & service fee)\nDesignated Driver Ticket: $45 (plus tax & service fee) – DDs get all the same perks\, except wine\, and receive a ceramic mug instead of a wine glass.\n\nEach ticket includes: \n\n·         1 wine & food pairing per winery\, per person\n·         3 additional wine tastings per winery\, per person\n·         1 ornament per ticket (1 per single\, DD\, or couples ticket)\n·         1 recipe collection per ticket\n·         1 souvenir wine glass per person\n\nWhen\nNovember 22\, 2025 10:00 AM – 5:00 PM\nNovember 23\, 2025 10:00 AM – 5:00 PM\nDecember 6\, 2025 10:00 AM – 5:00 PM\nDecember 7\, 2025 10:00 AM – 5:00 PM\nGrab November Tickets here\nGrab December Tickets here
URL:https://newyorkwines.org/event/2025-holiday-shopping-spree-on-the-cayuga-lake-wine-trail/2025-12-06/
CATEGORIES:Wine Trail Events
ATTACH;FMTTYPE=image/png:https://newyorkwines.org/wp-content/uploads/2025/05/sophisticated-6.png
END:VEVENT
BEGIN:VEVENT
DTSTART;TZID=America/New_York:20251206T110000
DTEND;TZID=America/New_York:20251206T180000
DTSTAMP:20260425T234236
CREATED:20251021T200719Z
LAST-MODIFIED:20251021T200719Z
UID:10001749-1765018800-1765044000@newyorkwines.org
SUMMARY:Christmas Around the World on the Lake Ontario Wine Trail
DESCRIPTION:Save the Date!!! Christmas Around the World December 6th & 7th! \nIt’s the best time of the year and time for our favorite event…Christmas Around the World back this December 6th & 7th! \nTravel the Lake Ontario Wine Trail this holiday season for our annual holiday tour.  Celebrate the season with festive pairings of wine\, spirits and ciders with foods from around the world. Each participant will represent a different country\, pairing traditional holiday dishes with local award-winning wines\, spirits and ciders.  All pairings offer unique flavors for guests to experience.  There will be plenty of fun\, food\, and holiday shopping for all to enjoy. \nThis event is held from 11 AM to 6 PM on Saturday and Sunday.  This is a self guided tour\, you have both days to finish the event (but one redemption at each location\, not one redemption per day) \nDue to limited space in tasting rooms\, reservations for groups of 8 or more are required. Not all locations can accommodate large groups. Please email us at contactus@lakeontariowinetrail.com to send us your itinerary. \nTickets will go on sale Monday\, November 3rd! \nRegister Here
URL:https://newyorkwines.org/event/christmas-around-the-world-on-the-lake-ontario-wine-trail/2025-12-06/
CATEGORIES:Wine Trail Events
ATTACH;FMTTYPE=image/png:https://newyorkwines.org/wp-content/uploads/2020/07/lake-ontario-wine-trail.png
END:VEVENT
BEGIN:VEVENT
DTSTART;TZID=America/New_York:20251206T120000
DTEND;TZID=America/New_York:20251206T120000
DTSTAMP:20260425T234236
CREATED:20251021T195637Z
LAST-MODIFIED:20251021T200018Z
UID:10001746-1765022400-1765022400@newyorkwines.org
SUMMARY:Holiday Happening on the Niagara Wine Trail
DESCRIPTION:Sip\, Shop and Sparkle!\nDecember 6th and 7th \nUncork the magic of the season at 12 local wineries. Sample exquisite local wines and collect a unique keepsake snowflake ornament at each stop to deck out your tree (or your wine rack!) with cheer. A perfect weekend wine tasting experience along the Niagara wine Trail to get in the festive spirit for couples\, friends\, and family. Grab your ticket – your perfect blend of holiday joy and local vineyard charm awaits! \nRegister Here
URL:https://newyorkwines.org/event/holiday-happening-on-the-niagara-wine-trail/2025-12-06/
CATEGORIES:Wine Trail Events
ATTACH;FMTTYPE=image/png:https://newyorkwines.org/wp-content/uploads/2023/09/NWT_Full_Logo_NY_Text_and_glass_color.png
END:VEVENT
END:VCALENDAR