BEGIN:VCALENDAR
VERSION:2.0
PRODID:-//New York Wines - ECPv6.15.20//NONSGML v1.0//EN
CALSCALE:GREGORIAN
METHOD:PUBLISH
X-WR-CALNAME:New York Wines
X-ORIGINAL-URL:https://newyorkwines.org
X-WR-CALDESC:Events for New York Wines
REFRESH-INTERVAL;VALUE=DURATION:PT1H
X-Robots-Tag:noindex
X-PUBLISHED-TTL:PT1H
BEGIN:VTIMEZONE
TZID:America/New_York
BEGIN:DAYLIGHT
TZOFFSETFROM:-0500
TZOFFSETTO:-0400
TZNAME:EDT
DTSTART:20240310T070000
END:DAYLIGHT
BEGIN:STANDARD
TZOFFSETFROM:-0400
TZOFFSETTO:-0500
TZNAME:EST
DTSTART:20241103T060000
END:STANDARD
BEGIN:DAYLIGHT
TZOFFSETFROM:-0500
TZOFFSETTO:-0400
TZNAME:EDT
DTSTART:20250309T070000
END:DAYLIGHT
BEGIN:STANDARD
TZOFFSETFROM:-0400
TZOFFSETTO:-0500
TZNAME:EST
DTSTART:20251102T060000
END:STANDARD
BEGIN:DAYLIGHT
TZOFFSETFROM:-0500
TZOFFSETTO:-0400
TZNAME:EDT
DTSTART:20260308T070000
END:DAYLIGHT
BEGIN:STANDARD
TZOFFSETFROM:-0400
TZOFFSETTO:-0500
TZNAME:EST
DTSTART:20261101T060000
END:STANDARD
BEGIN:DAYLIGHT
TZOFFSETFROM:-0500
TZOFFSETTO:-0400
TZNAME:EDT
DTSTART:20270314T070000
END:DAYLIGHT
BEGIN:STANDARD
TZOFFSETFROM:-0400
TZOFFSETTO:-0500
TZNAME:EST
DTSTART:20271107T060000
END:STANDARD
END:VTIMEZONE
BEGIN:VEVENT
DTSTART;VALUE=DATE:20251201
DTEND;VALUE=DATE:20260201
DTSTAMP:20260425T234233
CREATED:20251217T214808Z
LAST-MODIFIED:20251217T214918Z
UID:10001764-1764547200-1769903999@newyorkwines.org
SUMMARY:2026 Hudson Valley Wine Tasting Passport
DESCRIPTION:Passport is valid from January 1 through August 31\, 2026\n\n\nSAVE $50 WHEN YOU PRE-ORDER OUR 2-PACK NOW. \nOne price\, double the fun with the SWT Two-Pack! \nSAVE $10 WHEN YOU PRE-ORDER ONE PASSPORT NOW. \nPre-Sale Orders are Guaranteed to Arrive Before the Holidays. \n\n\n\n\nSavor a variety of offerings – from new releases and rare vintages to\nmulti-award-winning local and international favorites at these member locations.\n\n\n\n\nAll grown and handcrafted right here in the Hudson Valley.
URL:https://newyorkwines.org/event/2026-hudson-valley-wine-tasting-passport/
CATEGORIES:Wine Trail Events
ATTACH;FMTTYPE=image/jpeg:https://newyorkwines.org/wp-content/uploads/2024/07/SWT-Wine-Tasting-Passport-2023.jpg
END:VEVENT
BEGIN:VEVENT
DTSTART;VALUE=DATE:20251201
DTEND;VALUE=DATE:20260201
DTSTAMP:20260425T234233
CREATED:20251217T220359Z
LAST-MODIFIED:20251217T220450Z
UID:10001770-1764547200-1769903999@newyorkwines.org
SUMMARY:Cayuga Lake Wine Trail 2026 Season Pass
DESCRIPTION:Cayuga Lake Wine Trail Season Pass\nIntroducing the Cayuga Lake Wine Trail Season Pass — your discounted access to all five of our annual events for the year. One purchase secures your spot at: \n\nGalentine’s Weekend — February 13 & 14\nA festive\, feel-good weekend celebrating friendship with wine\, treats\, and fun extras along the trail.\nPinch & Pour — February 21 & 22\nA culinary-inspired event pairing Cayuga Lake wines with bold flavors\, spices\, and savory bites.\nBacon on the Lake-in — March 21 & 22\nA fan-favorite weekend featuring creative bacon dishes paired with wines at every stop.\nWine & Herb — April 24–26 or May 1–5\nA springtime tradition combining wine tastings with fresh herbs\, recipes\, and seasonal inspiration.\nHoliday Shopping Spree — November 20–22 or December 4–6\nA festive holiday trail experience featuring wine tastings\, exclusive discounts\, and collectible keepsakes.\n\nA Season Pass guarantees your place\, locks in savings\, and delivers a full year of curated food-and-wine experiences along Cayuga Lake. \nLearn more at cayugawinetrail.com/events/trail/2026-season-pass
URL:https://newyorkwines.org/event/cayuga-lake-wine-trail-2026-season-pass/
CATEGORIES:Wine Trail Events
ATTACH;FMTTYPE=image/png:https://newyorkwines.org/wp-content/uploads/2025/12/2026-events-11-by-17-1-Cayuga-Lake-Wine-Trail.png
END:VEVENT
BEGIN:VEVENT
DTSTART;VALUE=DATE:20251201
DTEND;VALUE=DATE:20260401
DTSTAMP:20260425T234233
CREATED:20240702T185526Z
LAST-MODIFIED:20251217T212314Z
UID:10001760-1764547200-1775001599@newyorkwines.org
SUMMARY:Paws & Pours Keuka Lake Wine Trail Tasting Passport
DESCRIPTION:A DOG-FRIENDLY EXPERIENCE\n\n\nDrink wine\, raise funds for animals in need!\n\n\nPaws & Pours is a fundraising initiative and our way of showing a warm welcome to you and your pups! Your purchase of this pass will go toward helping local animals at the Humane Society of Yates County in Penn Yan. All our member wineries are dog-friendly! \nThis pass is 100% digital and you don’t need to download an app to use it. With this pass\, everyone including the dogs will benefit. Human family members over the age of 21 will receive $2 off any glass of wine or wine flight at each participating winery\, and the dogs will get a small treat for being a great companion. \nGrab this pass for $15.00 and start exploring the Keuka Lake Wine Trail without leaving the furry family members at home. Enjoy the convenience and discounts while you make those core memories. \nPartial proceeds of pass sales are donated to the Humane Society of Yates County – Shelter of Hope.  \nPurchase your Paws & Pours Keuka Lake Tasting Passport Here
URL:https://newyorkwines.org/event/paws-pours-keuka-lake-wine-trail-tasting-passport/
CATEGORIES:Wine Trail Events
ATTACH;FMTTYPE=image/png:https://newyorkwines.org/wp-content/uploads/2024/07/Screenshot-2024-07-02-145246.png
END:VEVENT
BEGIN:VEVENT
DTSTART;VALUE=DATE:20251218
DTEND;VALUE=DATE:20251219
DTSTAMP:20260425T234233
CREATED:20251010T213656Z
LAST-MODIFIED:20251024T175618Z
UID:10001743-1766044800-1766077200@newyorkwines.org
SUMMARY:Ag Workforce Development Council’s Labor Roadshow
DESCRIPTION:December 1\, 2025 to December 22\, 2025\n 12:00 am\n\n Seminars/Webinars\n\n\n\n\n\n\n\n\nThe Ag Workforce Development Council’s Labor Roadshow returns this December in four locations\, as well as two webinars. \nIn-Person events will be held in four locations: \n\nDecember 9 – Elks Lodge\, Greenwich\, NY\nDecember 10 – Hilton Garden Inn\, Watertown\, NY\nDecember 17 – Cornell AgriTech\, Geneva\, NY\nDecember 18 – Genesee Community College\, Batavia\, NY\n\nOnline sessions will be held via Zoom on topics that are different from\, and in addition to\, the in-person events: \n\nDecember 1 from noon to 2:00PM\nDecember 22 from noon to 2:00PM\n\nLabor Roadshow IX will cover a range of pressing topics\, including: \n\nImmigration and Farm/Family Preparedness\nCompliance Updates\nUnionization Updates from PERB and attorneys\nEmployee Engagement and Improving Culture\nEmployee Housing Operational Costs\nPest Management in Employee Housing\nLegality of Employee Monitoring Using Cameras and Technology\nHow to Interact with Regulators and the Public about Labor Issues\n\nRegistration is now open. \nWith one registration\, participants gain access to one in-person event\, a recording of an in-person session\, and all online sessions on December 1 and 22. Whether attending in person or virtually\, this is a unique opportunity to engage with industry leaders and peers. \nRegistration Details: Registration is open. To secure your spot\, please visit: https://forms.gle/HheZLetKwyi8J3t6A. Early registration is encouraged as spaces may be limited. \nEvent cost: $75 per person\nCash\, check\, and advance online payments will be accepted. Each registration includes onsite programming for one event date\, access to two webinars\, coffee\, refreshments\, and lunch provided. \nFor the latest updates on expert speakers\, session topics\, and additional information\, please continue to check our Labor Roadshow webpage. \nQuestions?\nAbout program: cu-agworkforce@cornell.edu\nAbout registration/payment: office@nedpa.org \nAbout AWDC: The Agricultural Workforce Development Council (AWDC) is dedicated to enhancing the agricultural workforce through education\, advocacy\, and support. By providing resources and training\, AWDC helps farm employers navigate labor challenges effectively.
URL:https://newyorkwines.org/event/ag-workforce-development-councils-labor-roadshow/2025-12-18/
CATEGORIES:Industry Events
ATTACH;FMTTYPE=image/png:https://newyorkwines.org/wp-content/uploads/2025/10/LRSIX_Banner.png
END:VEVENT
BEGIN:VEVENT
DTSTART;TZID=America/New_York:20251218T120000
DTEND;TZID=America/New_York:20251218T130000
DTSTAMP:20260425T234233
CREATED:20251205T164058Z
LAST-MODIFIED:20251205T164058Z
UID:10001756-1766059200-1766062800@newyorkwines.org
SUMMARY:Farm Credit East Presents Webinar: 2026 Wine and Grape Industry Outlook
DESCRIPTION:Farm Credit East and Horizon Farm Credit will be hosting a free webinar with Andrew Adams\, of WineBusiness Analytics\, to discuss what’s ahead for the wine and grape industry on Thursday\, December 18 at 12:00 pm. \nDuring this webinar\, Andrew Adams will provide economic projections and business insights for the wine industry in the Northeast and across the nation. Learn how the Northeast compares to other wine regions and understand the unique opportunities growers and winemakers should be aware of in a challenging market. \nThis webinar is part of Farm Credit East’s Insights and Perspectives series\, which includes webinars and outlook papers for the diverse sectors of Northeast agriculture and forest products. Visit FarmCreditEast.com to read the wine and grape industry outlook report\, along with articles and webinar information for other industry insights. \nThe wine and grape industry webinar taking place on December 18 is free to attend. Register at FarmCreditEast.com/Webinars. Contact Chris Laughton at (800) 562-2235 or Chris.Laughton@farmcrediteast.com for more information.
URL:https://newyorkwines.org/event/farm-credit-east-presents-webinar-2026-wine-and-grape-industry-outlook/
CATEGORIES:Industry Events
ATTACH;FMTTYPE=image/jpeg:https://newyorkwines.org/wp-content/uploads/2025/12/Farm-Credit-East-Webinar-2026-Wine-and-Grape-Outlook.jpg
END:VEVENT
END:VCALENDAR