BEGIN:VCALENDAR
VERSION:2.0
PRODID:-//New York Wines - ECPv6.15.20//NONSGML v1.0//EN
CALSCALE:GREGORIAN
METHOD:PUBLISH
X-ORIGINAL-URL:https://newyorkwines.org
X-WR-CALDESC:Events for New York Wines
REFRESH-INTERVAL;VALUE=DURATION:PT1H
X-Robots-Tag:noindex
X-PUBLISHED-TTL:PT1H
BEGIN:VTIMEZONE
TZID:America/New_York
BEGIN:DAYLIGHT
TZOFFSETFROM:-0500
TZOFFSETTO:-0400
TZNAME:EDT
DTSTART:20250309T070000
END:DAYLIGHT
BEGIN:STANDARD
TZOFFSETFROM:-0400
TZOFFSETTO:-0500
TZNAME:EST
DTSTART:20251102T060000
END:STANDARD
BEGIN:DAYLIGHT
TZOFFSETFROM:-0500
TZOFFSETTO:-0400
TZNAME:EDT
DTSTART:20260308T070000
END:DAYLIGHT
BEGIN:STANDARD
TZOFFSETFROM:-0400
TZOFFSETTO:-0500
TZNAME:EST
DTSTART:20261101T060000
END:STANDARD
BEGIN:DAYLIGHT
TZOFFSETFROM:-0500
TZOFFSETTO:-0400
TZNAME:EDT
DTSTART:20270314T070000
END:DAYLIGHT
BEGIN:STANDARD
TZOFFSETFROM:-0400
TZOFFSETTO:-0500
TZNAME:EST
DTSTART:20271107T060000
END:STANDARD
END:VTIMEZONE
BEGIN:VEVENT
DTSTART;VALUE=DATE:20260223
DTEND;VALUE=DATE:20260302
DTSTAMP:20260420T051643
CREATED:20260206T132718Z
LAST-MODIFIED:20260206T132718Z
UID:10001791-1771804800-1772409599@newyorkwines.org
SUMMARY:New York Wines Sustainability Week
DESCRIPTION:Great wine. Doing good.\n\n\nExciting things are happening in wineries around New York. Innovative winemakers are crafting highly drinkable\, food-friendly wines. Now is your chance to taste how sustainable practices make our wine even better.\n\n\n\n\n\nSustainable wine growing does good things for New York’s environment\, our communities\, our people\, our livelihoods\, and our future—all while contributing to our ability to produce highly drinkable\, lighter-bodied\, food-friendly cool climate wines.\n\nBut the proof of how great these wines are is in the drinking. New York Wines Sustainability Week is a unique opportunity to sample a variety of wines from producers across our great state.\n\nAll about diversity\nBoth in the wines and the people who enjoy them. New York Wines Sustainability Week will feature a range of events across NYC showcasing different producers and wine styles. View our upcoming events schedule here: newyorkwines.org/sustainability-week-schedule\nNew York Wines Sustainability Week is just the beginning\nNew York Wines Sustainability Week can be the beginning of an amazing journey of discovery around wines made with certified sustainable grapes. To learn more about sustainable winegrowing in New York or to plan an itinerary around environmentally responsible producers\, click here.\n\n\n\nDon’t miss out!\nFollow us on Facebook and Instagram\, and be sure to sign up for our Press Deck Newsletter so you don’t miss an update!
URL:https://newyorkwines.org/event/new-york-wines-sustainability-week-2/
CATEGORIES:Industry Events
ATTACH;FMTTYPE=image/jpeg:https://newyorkwines.org/wp-content/uploads/2023/08/Sustainability-Social-Set-One-M2-2.jpg
END:VEVENT
BEGIN:VEVENT
DTSTART;VALUE=DATE:20260303
DTEND;VALUE=DATE:20260305
DTSTAMP:20260420T051643
CREATED:20260228T124854Z
LAST-MODIFIED:20260228T132933Z
UID:10001871-1772496000-1772668799@newyorkwines.org
SUMMARY:BEV NY Conference
DESCRIPTION:March 3 – 4 | Canandaigua\, NY \nB.E.V. NY is New York’s annual conference serving as a vital gathering for professionals and enthusiasts in the grape and wine industry. More than 300 people attend annually to hear the latest information about winemaking\, grape growing and marketing from academic and industry experts ranging from winery and vineyard leadership to winemakers\, vineyard managers\, tasting room managers\, sales and more. The two-day event offers a diverse range of programming with a strong focus on three key areas: business\, enology\, and viticulture. Pesticide credits will be available during viticulture-specific programming. \nThe content will dive deep into various topics and viewpoints from across industry leaders focused on enology\, viticulture\, and the market itself. There will be time to ask questions and interact with speakers. Topics we’ll get into: \n\nThe Future of Disease Management\nCompatibility Quest: Biological and Conventional Fungicide Tank Mix Interactions\nSelecting Plant Material for Vineyards\nSpotted Lantern Fly Update: Grower Experiences with SLF in Other States\nThe Impacts of Drought in the Vineyard and Cellar\nVineyard Nutrition from Grapes to Glass\nNew Varieties to Meet New Challenges\nPlus\, many more\n\nNYWGF Members — $125 Member Discount \nNYWGF winery and grower members are eligible to receive $125 off ONE (1) conference registration for the BEV NY Conference. \nImportant details:\n• One (1) $125 discount per winery or grower membership\n• Offer valid through March 2\, 2026\n• Conference website: www.bevny.org \nThis is a great opportunity to connect with industry peers\, explore new products and services\, and stay on top of trends impacting New York’s beverage alcohol community. \nPlease email Jennifer Cooper to receive your discount code! \n  \nLearn More and Register Here
URL:https://newyorkwines.org/event/bev-ny-conference/
CATEGORIES:Industry Events
ATTACH;FMTTYPE=image/jpeg:https://newyorkwines.org/wp-content/uploads/2021/02/BEV-NYFINALhorizontal.jpg
END:VEVENT
BEGIN:VEVENT
DTSTART;VALUE=DATE:20260303
DTEND;VALUE=DATE:20260306
DTSTAMP:20260420T051643
CREATED:20260228T124435Z
LAST-MODIFIED:20260228T124602Z
UID:10001870-1772496000-1772755199@newyorkwines.org
SUMMARY:Spotted Lanternfly Summit 2026
DESCRIPTION:The 2026 Spotted Lanternfly Summit will include presentations and discussions about spotted lanternfly research and management. Please register below for the online webinar to be held March 3–5\, 2026 (11 a.m. – 3 p.m. EST). \nLearn More and Register Here
URL:https://newyorkwines.org/event/spotted-lanternfly-summit-2026/
CATEGORIES:Industry Events
ATTACH;FMTTYPE=image/jpeg:https://newyorkwines.org/wp-content/uploads/2026/02/bd3cc31e-7ab3-c009-936e-05f76577b735.jpg
END:VEVENT
BEGIN:VEVENT
DTSTART;TZID=America/New_York:20260303T080000
DTEND;TZID=America/New_York:20260303T090000
DTSTAMP:20260420T051643
CREATED:20260223T212636Z
LAST-MODIFIED:20260223T212723Z
UID:10001795-1772524800-1772528400@newyorkwines.org
SUMMARY:The Wine Hub Webinar: Understanding the Swedish Wine Market
DESCRIPTION:March 3\, 2026 | 8:00 AM EST or March 4\, 2026 | 12:00 PM EST \nCurious about how to get your wines onto Swedish shelves? \nThe Swedish wine market is often described as complex. A monopoly system\, strict regulations\, and plenty of unwritten rules can make it feel hard to navigate from the outside. \nBut with the right understanding\, it’s also a market full of opportunity. \nIn this free 45-minute webinar\, we’ll guide you through how the Swedish market actually works. We’ll talk about who makes the decisions\, how much influence the monopoly really has\, and where we see opportunities for Wine Boards and producers today. \nThis session is designed for Wine Boards and their producers who want a clear\, practical overview of the Swedish market – whether you’re already active in Sweden or just starting to explore it. \nCome with questions\, or simply with curiosity. \nLearn more and register here!
URL:https://newyorkwines.org/event/the-wine-hub-webinar-understanding-the-swedish-wine-market/
CATEGORIES:Industry Events
ATTACH;FMTTYPE=image/png:https://newyorkwines.org/wp-content/uploads/2026/02/TWH_Burgundy-White-Letter-scaled.png
END:VEVENT
BEGIN:VEVENT
DTSTART;TZID=America/New_York:20260317T160000
DTEND;TZID=America/New_York:20260317T180000
DTSTAMP:20260420T051643
CREATED:20260314T154546Z
LAST-MODIFIED:20260314T154546Z
UID:10001873-1773763200-1773770400@newyorkwines.org
SUMMARY:New York Wine Policy Institute Sip & Sample Wine Tasting
DESCRIPTION:
URL:https://newyorkwines.org/event/new-york-wine-policy-institute-sip-sample-wine-tasting/
CATEGORIES:Industry Events
ATTACH;FMTTYPE=image/jpeg:https://newyorkwines.org/wp-content/uploads/2026/03/Hinchey_WineTasting_Flyer-scaled.jpg
END:VEVENT
BEGIN:VEVENT
DTSTART;TZID=America/New_York:20260324T080000
DTEND;TZID=America/New_York:20260326T170000
DTSTAMP:20260420T051643
CREATED:20251107T135211Z
LAST-MODIFIED:20251108T155348Z
UID:10001752-1774339200-1774544400@newyorkwines.org
SUMMARY:Eastern Winery Expo and Conference
DESCRIPTION:Providing Everything an Eastern Winery or Vineyard Could Need\nThe Eastern Winery Exposition will take place March 24–26 in Richmond\, Virginia. As the largest industry event east of the Pacific states\, EWE is designed to provide Eastern U.S. and Canadian wineries\, vineyards\, and suppliers with an easily accessible\, affordable\, and professional meeting place\, trade show\, and Eastern-focused conference. \nThe three-day event features an industry trade show\, an Eastern-focused conference\, and multiple opportunities for learning\, networking\, equipment purchasing\, and wine tasting. \nNYWGF is a Supporting Sponsor of EWE\, and as one of our member benefits\, a registration discount of 10% is provided. Simply email the New York Wine & Grape Foundation Team\, for your code. \nRegistration is now open. Click here to register now. 
URL:https://newyorkwines.org/event/eastern-winery-expo-and-conference/
CATEGORIES:Industry Events
ATTACH;FMTTYPE=image/png:https://newyorkwines.org/wp-content/uploads/2025/11/EWE-2026-Email-header.png
END:VEVENT
BEGIN:VEVENT
DTSTART;TZID=America/New_York:20260324T110000
DTEND;TZID=America/New_York:20260324T130000
DTSTAMP:20260420T051643
CREATED:20260224T185826Z
LAST-MODIFIED:20260226T202603Z
UID:10001796-1774350000-1774357200@newyorkwines.org
SUMMARY:Niagara Listening Session: Your Voice. Your Region. Our Next Steps.
DESCRIPTION:Tuesday\, March 24 at 11:00 AM EST\nThe Winery At Marjim Manor\n\n\n\n\n\n\n\n\n\n\n\n\nBe part of the conversation. Join us for lunch\, share your concerns and ideas\, and hear key updates from Sam Filler and colleagues.\n\n\n\nThe New York Wine & Grape Foundation invites winery and grower members to attend an upcoming regional Listening Session focused on the needs\, challenges\, and opportunities facing New York’s grape growing and winemaking community. Lunch will be provided\, so come hungry for both good food and meaningful discussion. \nFeatured Update: Key Insights from the New York Wine Industry Leadership Summit\nGet a clear\, high-level look at what emerged from the New York Wine Industry Leadership Summit: The Up State of Wine\, where industry leaders from across the state came together to discuss the future of New York wine. We’ll share the major themes and early priorities identified around marketing\, tourism\, and public policy\, and what they could mean for the direction of our industry over the next several years. \nFeatured Highlight: First Look at NYWGF’s New Member Portal\nBe among the first to see NYWGF’s new members-only portal in action. We’ll provide a live preview of how this new platform will make it easier to access your benefits\, find resources\, stay informed about events and opportunities\, and connect more directly with the Foundation and fellow members. \nThis is not a continuation of the Summit\, but rather an opportunity to keep members informed while creating space for regional voices to be heard. \nThe heart of this event is listening. \nThis is more than an information session—it’s your opportunity to: \n\nShare challenges and regional needs\nOffer ideas and perspectives\nAsk questions and engage in open dialogue\nHelp shape statewide research\, programs\, and priorities\n\nTogether\, these conversations will help guide NYWGF’s work and ensure it reflects what matters most to the people growing grapes and making wine across New York. \nLearn More and Register Here \nNYWGF is thankful to our partner\, American National Insurance\, for making this visit to the region possible. This public-private partnership showcases the impact that we can have when we work together towards a common goal.
URL:https://newyorkwines.org/event/niagara-listening-session-your-voice-your-region-our-next-steps/
CATEGORIES:Industry Events
ATTACH;FMTTYPE=image/png:https://newyorkwines.org/wp-content/uploads/2026/02/Niagara-Listening-Session-NYWGF.png
END:VEVENT
BEGIN:VEVENT
DTSTART;TZID=America/New_York:20260327T130000
DTEND;TZID=America/New_York:20260327T150000
DTSTAMP:20260420T051643
CREATED:20260303T022328Z
LAST-MODIFIED:20260303T164354Z
UID:10001872-1774616400-1774623600@newyorkwines.org
SUMMARY:Drone Demo Event: Revolutionizing Vineyard Management
DESCRIPTION:Join New York State Wine Grape Growers and Crop Care Drone Services of NY for their Drone Demo Event on Friday\, March 27\, 2026\, at 1 PM at Vineyard View Winery. \nTo learn more\, please contact Tim Rigdon at tim@cropcareny.com. \nThere is no need to pre-register for this event! This event is free and open to all.
URL:https://newyorkwines.org/event/drone-demo-event-revolutionizing-vineyard-management/
CATEGORIES:Industry Events
ATTACH;FMTTYPE=image/jpeg:https://newyorkwines.org/wp-content/uploads/2026/03/Drone-event-flyer-New-York-State-Wine-Grape-Growers.jpg
END:VEVENT
END:VCALENDAR