BEGIN:VCALENDAR
VERSION:2.0
PRODID:-//New York Wines - ECPv6.15.20//NONSGML v1.0//EN
CALSCALE:GREGORIAN
METHOD:PUBLISH
X-ORIGINAL-URL:https://newyorkwines.org
X-WR-CALDESC:Events for New York Wines
REFRESH-INTERVAL;VALUE=DURATION:PT1H
X-Robots-Tag:noindex
X-PUBLISHED-TTL:PT1H
BEGIN:VTIMEZONE
TZID:America/New_York
BEGIN:DAYLIGHT
TZOFFSETFROM:-0500
TZOFFSETTO:-0400
TZNAME:EDT
DTSTART:20240310T070000
END:DAYLIGHT
BEGIN:STANDARD
TZOFFSETFROM:-0400
TZOFFSETTO:-0500
TZNAME:EST
DTSTART:20241103T060000
END:STANDARD
BEGIN:DAYLIGHT
TZOFFSETFROM:-0500
TZOFFSETTO:-0400
TZNAME:EDT
DTSTART:20250309T070000
END:DAYLIGHT
BEGIN:STANDARD
TZOFFSETFROM:-0400
TZOFFSETTO:-0500
TZNAME:EST
DTSTART:20251102T060000
END:STANDARD
BEGIN:DAYLIGHT
TZOFFSETFROM:-0500
TZOFFSETTO:-0400
TZNAME:EDT
DTSTART:20260308T070000
END:DAYLIGHT
BEGIN:STANDARD
TZOFFSETFROM:-0400
TZOFFSETTO:-0500
TZNAME:EST
DTSTART:20261101T060000
END:STANDARD
END:VTIMEZONE
BEGIN:VEVENT
DTSTART;TZID=America/New_York:20250717T180000
DTEND;TZID=America/New_York:20250717T190000
DTSTAMP:20260420T140257
CREATED:20250528T145254Z
LAST-MODIFIED:20250617T183446Z
UID:10001696-1752775200-1752778800@newyorkwines.org
SUMMARY:2025 New York Wine Classic Awards Ceremony
DESCRIPTION:The 2025 New York Wine Classic Award winners will be honored on Thursday\, July 17th at 6:00 PM EST in a live virtual ceremony hosted by Wanda Mann.\nOrganized annually by the New York Wine & Grape Foundation\, the New York Wine Classic celebrates a diverse selection of world-class wines from producers within the State. \nNYWGF has partnered again with the Beverage Testing Institute (BevTest) to judge wines submitted. Scores will be awarded by BevTest’s trained sensory panel comprised of beverage directors\, sommeliers\, top bartenders\, retail buyers\, and educators. \n\n\nTop award winners will be announced live during a Virtual Awards Ceremony hosted by Wanda Mann held on Thursday\, July 17th. Please register for our Virtual Awards Ceremony below. \n  \n\nRegister Here!
URL:https://newyorkwines.org/event/2025-new-york-wine-classic-awards-ceremony/
CATEGORIES:Industry Events,Special Event,Trade & Media Events,Virtual Tasting
ATTACH;FMTTYPE=image/png:https://newyorkwines.org/wp-content/uploads/2025/05/2025-New-York-Wine-Classic-2.png
END:VEVENT
END:VCALENDAR