BEGIN:VCALENDAR
VERSION:2.0
PRODID:-//New York Wines - ECPv6.15.20//NONSGML v1.0//EN
CALSCALE:GREGORIAN
METHOD:PUBLISH
X-WR-CALNAME:New York Wines
X-ORIGINAL-URL:https://newyorkwines.org
X-WR-CALDESC:Events for New York Wines
REFRESH-INTERVAL;VALUE=DURATION:PT1H
X-Robots-Tag:noindex
X-PUBLISHED-TTL:PT1H
BEGIN:VTIMEZONE
TZID:America/New_York
BEGIN:DAYLIGHT
TZOFFSETFROM:-0500
TZOFFSETTO:-0400
TZNAME:EDT
DTSTART:20230312T070000
END:DAYLIGHT
BEGIN:STANDARD
TZOFFSETFROM:-0400
TZOFFSETTO:-0500
TZNAME:EST
DTSTART:20231105T060000
END:STANDARD
BEGIN:DAYLIGHT
TZOFFSETFROM:-0500
TZOFFSETTO:-0400
TZNAME:EDT
DTSTART:20240310T070000
END:DAYLIGHT
BEGIN:STANDARD
TZOFFSETFROM:-0400
TZOFFSETTO:-0500
TZNAME:EST
DTSTART:20241103T060000
END:STANDARD
BEGIN:DAYLIGHT
TZOFFSETFROM:-0500
TZOFFSETTO:-0400
TZNAME:EDT
DTSTART:20250309T070000
END:DAYLIGHT
BEGIN:STANDARD
TZOFFSETFROM:-0400
TZOFFSETTO:-0500
TZNAME:EST
DTSTART:20251102T060000
END:STANDARD
END:VTIMEZONE
BEGIN:VEVENT
DTSTART;TZID=America/New_York:20241104T080000
DTEND;TZID=America/New_York:20241104T100000
DTSTAMP:20260421T023100
CREATED:20241025T180658Z
LAST-MODIFIED:20241025T180758Z
UID:10001610-1730707200-1730714400@newyorkwines.org
SUMMARY:NYSWGG Welcomes Lucie Morton
DESCRIPTION:Monday\, November 4th  |  Three Brothers Winery  |  8:00am\n \nLucie is an internationally acclaimed viticultural consultant and lecturer specializing in grapevine ampelography (identification)\, rootstock selection and vineyard establishment. She is currently working on a movie called The Odyssey of Forbidden Wines and will be joining us as her travels bring her here.  Check out the teaser at www.theforbiddenwines.com \nShe will be joining us for a guest lecture at Three Brothers Winery at 8:00am on Monday 11/4/24. Please bring $20 or your NYSWGG membership card. \nRSVP to Chris at cksawtoothfarm3@gmail.com
URL:https://newyorkwines.org/event/nyswgg-welcomes-lucie-morton/
CATEGORIES:Industry Events,Special Event
ATTACH;FMTTYPE=image/jpeg:https://newyorkwines.org/wp-content/uploads/2022/03/NYSWGGlogo.jpg
END:VEVENT
END:VCALENDAR