BEGIN:VCALENDAR
VERSION:2.0
PRODID:-//New York Wines - ECPv6.15.20//NONSGML v1.0//EN
CALSCALE:GREGORIAN
METHOD:PUBLISH
X-ORIGINAL-URL:https://newyorkwines.org
X-WR-CALDESC:Events for New York Wines
REFRESH-INTERVAL;VALUE=DURATION:PT1H
X-Robots-Tag:noindex
X-PUBLISHED-TTL:PT1H
BEGIN:VTIMEZONE
TZID:America/New_York
BEGIN:DAYLIGHT
TZOFFSETFROM:-0500
TZOFFSETTO:-0400
TZNAME:EDT
DTSTART:20240310T070000
END:DAYLIGHT
BEGIN:STANDARD
TZOFFSETFROM:-0400
TZOFFSETTO:-0500
TZNAME:EST
DTSTART:20241103T060000
END:STANDARD
BEGIN:DAYLIGHT
TZOFFSETFROM:-0500
TZOFFSETTO:-0400
TZNAME:EDT
DTSTART:20250309T070000
END:DAYLIGHT
BEGIN:STANDARD
TZOFFSETFROM:-0400
TZOFFSETTO:-0500
TZNAME:EST
DTSTART:20251102T060000
END:STANDARD
BEGIN:DAYLIGHT
TZOFFSETFROM:-0500
TZOFFSETTO:-0400
TZNAME:EDT
DTSTART:20260308T070000
END:DAYLIGHT
BEGIN:STANDARD
TZOFFSETFROM:-0400
TZOFFSETTO:-0500
TZNAME:EST
DTSTART:20261101T060000
END:STANDARD
END:VTIMEZONE
BEGIN:VEVENT
DTSTART;TZID=America/New_York:20250204T180000
DTEND;TZID=America/New_York:20250204T200000
DTSTAMP:20260420T220438
CREATED:20250107T191517Z
LAST-MODIFIED:20250116T174510Z
UID:10001638-1738692000-1738699200@newyorkwines.org
SUMMARY:Cab Franc Forward New York Wine Tasting
DESCRIPTION:Come taste top NY wines made from Cabernet Franc from over 25 different wineries! This event is perfect for anyone who likes wine. \n\n\n\n\n\n\n\n\n\nDate and time\n\n\n\n  \n\nTuesday\, February 4 · 6 – 8pm EST\n\n\n\n\n\n\n\n\n\n\n\n\n\n\n\nLocation\n\n\n\nThe Prince George Ballroom \n15 East 27th Street New York\, NY 10016 \n\n\n\n\n\n\n\n\n\n\n\n\n\n\n\n\nAbout the Event\nCalling any and all wine lovers: get ready for a fun wine tasting experience! \nJoin us at the Prince George Ballroom to taste New York Cabernet Franc wines. Upon entry\, you’ll receive a wine glass and a tasting guide to bring to different tables where your favorite New York winemakers will be pouring top-quality wines\, all made from the Cabernet Franc grape. This marks the first major NY wine tasting in over five years! \nGather your friends\, bring a date\, or come solo and mingle with other wine lovers in NYC. \nABOUT US: Cab Franc Forward is a bold collective of pioneering New York wineries\, each crafting Cabernet Franc with passion\, precision\, and character. We’re not just making wine; we’re making a statement\, drawing attention to New York’s Cabernet Franc as a premier red. Sip\, savor\, and share the story of New York Cabernet Franc. \nBe part of the revolution\, join NYC’s biggest celebration of New York Cabernet Franc! \n  \n\n\n\nLearn more and register here! \n 
URL:https://newyorkwines.org/event/cab-franc-forward-new-york-wine-tasting/
CATEGORIES:Special Event,Trade & Media Events
ATTACH;FMTTYPE=image/jpeg:https://newyorkwines.org/wp-content/uploads/2025/01/https___cdn.evbuc_.com_images_914486763_2487206210551_1_original-1.jpg
END:VEVENT
END:VCALENDAR