BEGIN:VCALENDAR
VERSION:2.0
PRODID:-//New York Wines - ECPv6.15.20//NONSGML v1.0//EN
CALSCALE:GREGORIAN
METHOD:PUBLISH
X-WR-CALNAME:New York Wines
X-ORIGINAL-URL:https://newyorkwines.org
X-WR-CALDESC:Events for New York Wines
REFRESH-INTERVAL;VALUE=DURATION:PT1H
X-Robots-Tag:noindex
X-PUBLISHED-TTL:PT1H
BEGIN:VTIMEZONE
TZID:America/New_York
BEGIN:DAYLIGHT
TZOFFSETFROM:-0500
TZOFFSETTO:-0400
TZNAME:EDT
DTSTART:20240310T070000
END:DAYLIGHT
BEGIN:STANDARD
TZOFFSETFROM:-0400
TZOFFSETTO:-0500
TZNAME:EST
DTSTART:20241103T060000
END:STANDARD
BEGIN:DAYLIGHT
TZOFFSETFROM:-0500
TZOFFSETTO:-0400
TZNAME:EDT
DTSTART:20250309T070000
END:DAYLIGHT
BEGIN:STANDARD
TZOFFSETFROM:-0400
TZOFFSETTO:-0500
TZNAME:EST
DTSTART:20251102T060000
END:STANDARD
BEGIN:DAYLIGHT
TZOFFSETFROM:-0500
TZOFFSETTO:-0400
TZNAME:EDT
DTSTART:20260308T070000
END:DAYLIGHT
BEGIN:STANDARD
TZOFFSETFROM:-0400
TZOFFSETTO:-0500
TZNAME:EST
DTSTART:20261101T060000
END:STANDARD
BEGIN:DAYLIGHT
TZOFFSETFROM:-0500
TZOFFSETTO:-0400
TZNAME:EDT
DTSTART:20270314T070000
END:DAYLIGHT
BEGIN:STANDARD
TZOFFSETFROM:-0400
TZOFFSETTO:-0500
TZNAME:EST
DTSTART:20271107T060000
END:STANDARD
END:VTIMEZONE
BEGIN:VEVENT
DTSTART;VALUE=DATE:20251201
DTEND;VALUE=DATE:20260201
DTSTAMP:20260425T202900
CREATED:20251217T214808Z
LAST-MODIFIED:20251217T214918Z
UID:10001764-1764547200-1769903999@newyorkwines.org
SUMMARY:2026 Hudson Valley Wine Tasting Passport
DESCRIPTION:Passport is valid from January 1 through August 31\, 2026\n\n\nSAVE $50 WHEN YOU PRE-ORDER OUR 2-PACK NOW. \nOne price\, double the fun with the SWT Two-Pack! \nSAVE $10 WHEN YOU PRE-ORDER ONE PASSPORT NOW. \nPre-Sale Orders are Guaranteed to Arrive Before the Holidays. \n\n\n\n\nSavor a variety of offerings – from new releases and rare vintages to\nmulti-award-winning local and international favorites at these member locations.\n\n\n\n\nAll grown and handcrafted right here in the Hudson Valley.
URL:https://newyorkwines.org/event/2026-hudson-valley-wine-tasting-passport/
CATEGORIES:Wine Trail Events
ATTACH;FMTTYPE=image/jpeg:https://newyorkwines.org/wp-content/uploads/2024/07/SWT-Wine-Tasting-Passport-2023.jpg
END:VEVENT
BEGIN:VEVENT
DTSTART;VALUE=DATE:20251201
DTEND;VALUE=DATE:20260201
DTSTAMP:20260425T202900
CREATED:20251217T220359Z
LAST-MODIFIED:20251217T220450Z
UID:10001770-1764547200-1769903999@newyorkwines.org
SUMMARY:Cayuga Lake Wine Trail 2026 Season Pass
DESCRIPTION:Cayuga Lake Wine Trail Season Pass\nIntroducing the Cayuga Lake Wine Trail Season Pass — your discounted access to all five of our annual events for the year. One purchase secures your spot at: \n\nGalentine’s Weekend — February 13 & 14\nA festive\, feel-good weekend celebrating friendship with wine\, treats\, and fun extras along the trail.\nPinch & Pour — February 21 & 22\nA culinary-inspired event pairing Cayuga Lake wines with bold flavors\, spices\, and savory bites.\nBacon on the Lake-in — March 21 & 22\nA fan-favorite weekend featuring creative bacon dishes paired with wines at every stop.\nWine & Herb — April 24–26 or May 1–5\nA springtime tradition combining wine tastings with fresh herbs\, recipes\, and seasonal inspiration.\nHoliday Shopping Spree — November 20–22 or December 4–6\nA festive holiday trail experience featuring wine tastings\, exclusive discounts\, and collectible keepsakes.\n\nA Season Pass guarantees your place\, locks in savings\, and delivers a full year of curated food-and-wine experiences along Cayuga Lake. \nLearn more at cayugawinetrail.com/events/trail/2026-season-pass
URL:https://newyorkwines.org/event/cayuga-lake-wine-trail-2026-season-pass/
CATEGORIES:Wine Trail Events
ATTACH;FMTTYPE=image/png:https://newyorkwines.org/wp-content/uploads/2025/12/2026-events-11-by-17-1-Cayuga-Lake-Wine-Trail.png
END:VEVENT
BEGIN:VEVENT
DTSTART;VALUE=DATE:20251201
DTEND;VALUE=DATE:20260401
DTSTAMP:20260425T202900
CREATED:20240702T185526Z
LAST-MODIFIED:20251217T212314Z
UID:10001760-1764547200-1775001599@newyorkwines.org
SUMMARY:Paws & Pours Keuka Lake Wine Trail Tasting Passport
DESCRIPTION:A DOG-FRIENDLY EXPERIENCE\n\n\nDrink wine\, raise funds for animals in need!\n\n\nPaws & Pours is a fundraising initiative and our way of showing a warm welcome to you and your pups! Your purchase of this pass will go toward helping local animals at the Humane Society of Yates County in Penn Yan. All our member wineries are dog-friendly! \nThis pass is 100% digital and you don’t need to download an app to use it. With this pass\, everyone including the dogs will benefit. Human family members over the age of 21 will receive $2 off any glass of wine or wine flight at each participating winery\, and the dogs will get a small treat for being a great companion. \nGrab this pass for $15.00 and start exploring the Keuka Lake Wine Trail without leaving the furry family members at home. Enjoy the convenience and discounts while you make those core memories. \nPartial proceeds of pass sales are donated to the Humane Society of Yates County – Shelter of Hope.  \nPurchase your Paws & Pours Keuka Lake Tasting Passport Here
URL:https://newyorkwines.org/event/paws-pours-keuka-lake-wine-trail-tasting-passport/
CATEGORIES:Wine Trail Events
ATTACH;FMTTYPE=image/png:https://newyorkwines.org/wp-content/uploads/2024/07/Screenshot-2024-07-02-145246.png
END:VEVENT
BEGIN:VEVENT
DTSTART;VALUE=DATE:20260101
DTEND;VALUE=DATE:20260201
DTSTAMP:20260425T202900
CREATED:20251217T215543Z
LAST-MODIFIED:20251217T215543Z
UID:10001768-1767225600-1769903999@newyorkwines.org
SUMMARY:Seneca Sips and Suds
DESCRIPTION:January 2\, 2026 @ 10:00 am – January 31\, 2026 @ 5:00 pm\n$35\n\n\nThe Sips and Suds Tasting Pass brings together 18 wineries and 13 breweries circling Seneca Lake\, offering pass holders exclusive savings and a fun\, game-like experience as they sip their way around the lake. The tasting pass is good for the entire month of January 2026 and costs $35. \nPass holders receive 50% off a tasting\, flight\, glass of wine\, or pint of beer at every participating location—making it easier than ever to explore new producers\, revisit old favorites\, and enjoy the best of what the region has to offer. \nIn addition to substantial savings\, the Tasting Pass includes a built-in prize program. As visitors check in and “unlock” participating wineries and breweries\, they become eligible for fun giveaways along the way. The more locations they visit\, the bigger the rewards—culminating in a grand prize drawing at each achievement level for completing clusters of wineries/breweries around the lake. \n\nLearn more at senecalakewine.com/event/seneca-sips-suds.
URL:https://newyorkwines.org/event/seneca-sips-and-suds/
CATEGORIES:Wine Trail Events
ATTACH;FMTTYPE=image/png:https://newyorkwines.org/wp-content/uploads/2025/12/Seneca-Lake-Wine-Trail-Sips-and-Suds.png
END:VEVENT
BEGIN:VEVENT
DTSTART;VALUE=DATE:20260101
DTEND;VALUE=DATE:20260201
DTSTAMP:20260425T202900
CREATED:20260107T195247Z
LAST-MODIFIED:20260107T195247Z
UID:10001773-1767225600-1769903999@newyorkwines.org
SUMMARY:Canandaigua Lake Wine Trail Tasting Passport
DESCRIPTION:The Best Way To Taste The Trail\nExplore 30 miles of Finger Lakes wine experiences with our mobile passport\, granting access to exclusive deals and discounted tastings at each of the 9 wineries on the Canandaigua Lake Wine Trail. This is a $110 value\, but you’ll get it for only $60! Grab yours today! \nLearn more and purchase your own at www.canandaigualakewinetrail.com/passport
URL:https://newyorkwines.org/event/canandaigua-lake-wine-trail-tasting-passport/
CATEGORIES:Wine Trail Events
ATTACH;FMTTYPE=image/jpeg:https://newyorkwines.org/wp-content/uploads/2020/07/canandaigua-lake-wine-trail-logo.jpg
END:VEVENT
BEGIN:VEVENT
DTSTART;TZID=America/New_York:20260107T120000
DTEND;TZID=America/New_York:20260107T130000
DTSTAMP:20260425T202900
CREATED:20251120T230549Z
LAST-MODIFIED:20251205T174131Z
UID:10001753-1767787200-1767790800@newyorkwines.org
SUMMARY:Understanding Eco-Driven Wine Consumers: Key Wine Market Council Findings
DESCRIPTION:Wednesday\, January 7\, 2026\n12:00 to 1:00 PM EST\nUnderstanding consumer behavior is key to growing New York’s wine industry. This webinar\, presented by Dr. Liz Thach\, MW\, President of Wine Market Council\, explores the latest research on eco-driven wine consumers. \nThe Wine Market Council recently released a new study focused on U.S. wine consumers who prioritize sustainability and environmental impact in their purchasing decisions. This webinar will review the key findings of the research\, including: \n\nGenerational and demographic patterns\nMotivations for eco-conscious wine buying\nHow consumers interpret sustainable labeling and certifications\n\nThe session will also open the floor for discussion on what these insights might mean for wine producers and grape growers in New York State. \nJoin us for this data-driven session to better understand the evolving wine market as it pertains to eco-driven wine consumers and how New York wines can fit into those consumer preferences. \nPLEASE NOTE: Interested participants must tune in on January 7th at 12:00 PM EST – there will be no recording of this session sent out as a follow-up. \n**This webinar is free to all NYWGF Members. \nREGISTER & LEARN MORE HERE
URL:https://newyorkwines.org/event/understanding-eco-driven-wine-consumers-key-wine-market-council-findings/
CATEGORIES:Basic Webinar
ATTACH;FMTTYPE=image/png:https://newyorkwines.org/wp-content/uploads/2025/11/New-York-Wine-and-Grape-Foundation-Wine-Market-Council-Webinar.png
END:VEVENT
BEGIN:VEVENT
DTSTART;TZID=America/New_York:20260115T110000
DTEND;TZID=America/New_York:20260115T160000
DTSTAMP:20260425T202900
CREATED:20251216T204954Z
LAST-MODIFIED:20251216T204954Z
UID:10001759-1768474800-1768492800@newyorkwines.org
SUMMARY:Leadership Summit 2026
DESCRIPTION:The Up State of Wine\n\nTogether\, we’ll change the trajectory of New York Wines. \n  \nThe New York Wine & Grape Foundation will host the inaugural New York Wine Industry Leadership Summit on Thursday\, January 15\, 2026\, from 11:00 AM to 4:00 PM at the New Yorker Hotel. \nThis Leadership Summit will convene winery owners\, grape growers\, marketers\, distributors\, policymakers\, and allied professionals from across the state for a focused\, working conversation about the future of our industry. \nBe sure to learn even more at newyorkwines.org/turnup.
URL:https://newyorkwines.org/event/leadership-summit-2026/
CATEGORIES:Industry Events,Trade & Media Events
ATTACH;FMTTYPE=image/png:https://newyorkwines.org/wp-content/uploads/2025/12/NYWGF-Leadership-Summit-Concepts-R5V1_Page_5-scaled.png
END:VEVENT
BEGIN:VEVENT
DTSTART;TZID=America/New_York:20260120T100000
DTEND;TZID=America/New_York:20260120T113000
DTSTAMP:20260425T202900
CREATED:20260113T022349Z
LAST-MODIFIED:20260113T174109Z
UID:10001775-1768903200-1768908600@newyorkwines.org
SUMMARY:Importing Wine to the UK Market with Dan Belmont
DESCRIPTION:Tuesday\, January 20\, 2026\n10:00 AM\nGet ready to dive into the world of UK exports with the insightful Dan Belmont in this virtual event full of tips and tricks!\n\n\nJoin UK Wine Importer\, Wholesaler and Retailer Dan Belmont for an insider’s look at the UK wine market. Dan will give you the lay of the land – including a detailed understanding of UK wine pricing\, taking you step by step from US Ex-Cellar to final UK retail shelf price. Labelling requirements (and recommendations)\, freight costs and timing\, public perception of NY wines in the UK market\, and more. \n\n\n\n\nDan Belmont launched e-commerce retail website Good Wine Good People in 2020 and quickly amassed the largest retail collection of New York State wines in the UK. He works with over 20 of the UK’s top importers to source a global wine portfolio of 500 wines strong. In 2023\, he began importing directly – his first imports hailed from – you guessed it – New York State. Dan now imports approximately 100 wines from over 20 producers from around the world\, including 2 NYS producers (with a 3rd in the works!). In addition to selling direct to consumers via his now two e-commerce outlets\, he distributes his imports to over 50 accounts UK-wide\, including Michelin-starred restaurants\, iconic wine bars\, retailers\, and even works with satellite distributors in Northern England\, Scotland\, and Wales. \nRenowned for its commitment to personalized service\, GWGP has earned the title of the UK’s ‘Most Personalized Wine Club’ according to The Independent (2024). Dan himself has garnered recognition in the industry\, recently winning Online Specialist Wine Buyer of the Year in 2024. GWGP was a 2025 finalist for Online Drinks Retailer of the Year at the Drinks Retailing Awards. Dan collaborates with various international trade associations and producers as a presenter\, educator\, and judge (IWSC\, London Wine Competition). \nDan actively supports the New York Wine & Grape Foundation as a UK and EU ambassador. In 2022\, he authored the latest edition of the New York State Wine Reference Guide\, which he updates annually. \n\n\nLearn more and register here!
URL:https://newyorkwines.org/event/importing-wine-to-the-uk-market-with-dan-belmont/
CATEGORIES:Industry Events
ATTACH;FMTTYPE=image/png:https://newyorkwines.org/wp-content/uploads/2026/01/New-York-Wines-Export-Program-UK-Market-with-Dan-Belmont.png
END:VEVENT
BEGIN:VEVENT
DTSTART;TZID=America/New_York:20260127T083000
DTEND;TZID=America/New_York:20260127T093000
DTSTAMP:20260425T202900
CREATED:20251205T155841Z
LAST-MODIFIED:20251205T163824Z
UID:10001755-1769502600-1769506200@newyorkwines.org
SUMMARY:Powering NY Agriculture with Solar: Save Money\, Get Incentives & Turnkey Support
DESCRIPTION:Tuesday\, January 27\, 2026 \n8:30 – 9:30 AM \n  \nJoin us for a solutions-focused webinar specifically for NY vineyards & wineries exploring how solar positions your business for resilience. \n\n\n\nHosted by Jordan Energy \nJoin Jordan Energy for a practical\, solutions-focused webinar designed specifically for New York vineyards and wineries exploring how solar can reduce operating costs\, strengthen long-term sustainability\, and position your business for future resilience. \nJordan Energy’s team has partnered with agricultural operations across the Northeast for nearly two decades\, helping farms and agribusinesses secure more than $30 million in solar-related funding through grants\, incentives\, and strategic project planning. This session will walk you through what solar can do for your business today—and how to leverage available programs to make it financially achievable. \nWhat You’ll Learn: \n\nHow Solar Works for Vineyards & Wineries: Understand how solar systems integrate with agricultural operations\, reduce energy costs\, and support long-term business stability.\nFunding Pathways to Reduce Project Costs\n\nAn overview of the state and federal incentives that can help fund your solar installation\, including those highlighted in the NYWGF Member Grants & Incentives Guide as well as key clean-energy programs such as: \n\nUSDA Rural Energy for America Program (REAP) – Grants covering up to 50% of total eligible project costs for renewable energy systems.\nUSDA Energy Audit & Renewable Energy Development Assistance Grants – Programs that may support energy audits or feasibility work at low or no cost.\nNYSERDA NY-Sun Program – Incentives that lower the upfront cost of going solar for businesses\, farms\, and commercial facilities across New York State. NY-Sun supports both rooftop and ground-mounted systems and often pairs well with federal and USDA funding.\nEmpire State Development & Clean Energy-Eligible Grants – Capital programs that may support facility upgrades tied to clean-energy infrastructure.\nNYSERDA FlexTech Program – Cost-shared\, site-specific engineering analyses to support renewable energy decisions.\nNational Grid Renewable Energy & Efficiency Incentives – For businesses served by National Grid.\nNYSEG & RG&E incentives (as available).\nAdditional programs supporting capital investment\, climate resiliency\, and clean-energy adoption.\nHow Jordan Energy’s Partnership Model Simplifies the Process\n\nLearn how Jordan Energy manages feasibility\, design\, permitting\, funding applications\, and project implementation—from concept to commissioning—so you can focus on running your business. \n\nREGISTER HERE
URL:https://newyorkwines.org/event/powering-ny-agriculture-with-solar-save-money-get-incentives-turnkey-support/
CATEGORIES:Basic Webinar,Industry Events
ATTACH;FMTTYPE=image/jpeg:https://newyorkwines.org/wp-content/uploads/2025/12/New-York-Wines-Grape-Foundation-Webinar-Powering-NY-Farms-and-Wineries-with-Solar-scaled.jpg
END:VEVENT
BEGIN:VEVENT
DTSTART;TZID=America/New_York:20260129T090000
DTEND;TZID=America/New_York:20260129T100000
DTSTAMP:20260425T202900
CREATED:20260113T032548Z
LAST-MODIFIED:20260120T200548Z
UID:10001776-1769677200-1769680800@newyorkwines.org
SUMMARY:New York Wines Export Program: Caribbean Market Overview
DESCRIPTION:Thursday\, January 29\, 2026\n9:00 AM\n\nGet ready to explore the vibrant world of Caribbean markets through the lens of the New York Wines Export Program!\n\n\n\nAs the New York Wine & Grape Foundation expands its Export Program into the Caribbean\, we’re pleased to welcome Strategos Consulting Group for an in-depth overview of this dynamic and growing market. Join us to meet the Strategos team and learn more about the Caribbean wine landscape\, consumer preferences\, and trade structure — and what this new partnership means for New York wineries during the upcoming program year. \nStrategos will share insights on where New York wines are best positioned in the region\, which styles and potential price points perform well\, and how factors like tourism\, hospitality\, and cuisine shape wine demand across key Caribbean markets. The webinar will also highlight upcoming program activities and opportunities for wineries interested in participating in this new export initiative. \nThis session is an excellent opportunity to better understand the Caribbean market and explore how the New York Wines Export Program can help your winery build meaningful international connections. \n\nLearn more and register here!
URL:https://newyorkwines.org/event/new-york-wines-export-program-caribbean-market-overview/
CATEGORIES:Industry Events
ATTACH;FMTTYPE=image/png:https://newyorkwines.org/wp-content/uploads/2026/01/New-York-Wines-Export-Program-Caribbean-Market-Overview.png
END:VEVENT
END:VCALENDAR