BEGIN:VCALENDAR
VERSION:2.0
PRODID:-//New York Wines - ECPv6.15.20//NONSGML v1.0//EN
CALSCALE:GREGORIAN
METHOD:PUBLISH
X-ORIGINAL-URL:https://newyorkwines.org
X-WR-CALDESC:Events for New York Wines
REFRESH-INTERVAL;VALUE=DURATION:PT1H
X-Robots-Tag:noindex
X-PUBLISHED-TTL:PT1H
BEGIN:VTIMEZONE
TZID:America/New_York
BEGIN:DAYLIGHT
TZOFFSETFROM:-0500
TZOFFSETTO:-0400
TZNAME:EDT
DTSTART:20240310T070000
END:DAYLIGHT
BEGIN:STANDARD
TZOFFSETFROM:-0400
TZOFFSETTO:-0500
TZNAME:EST
DTSTART:20241103T060000
END:STANDARD
BEGIN:DAYLIGHT
TZOFFSETFROM:-0500
TZOFFSETTO:-0400
TZNAME:EDT
DTSTART:20250309T070000
END:DAYLIGHT
BEGIN:STANDARD
TZOFFSETFROM:-0400
TZOFFSETTO:-0500
TZNAME:EST
DTSTART:20251102T060000
END:STANDARD
BEGIN:DAYLIGHT
TZOFFSETFROM:-0500
TZOFFSETTO:-0400
TZNAME:EDT
DTSTART:20260308T070000
END:DAYLIGHT
BEGIN:STANDARD
TZOFFSETFROM:-0400
TZOFFSETTO:-0500
TZNAME:EST
DTSTART:20261101T060000
END:STANDARD
END:VTIMEZONE
BEGIN:VEVENT
DTSTART;TZID=America/New_York:20250702T100000
DTEND;TZID=America/New_York:20250702T110000
DTSTAMP:20260420T172647
CREATED:20250529T144555Z
LAST-MODIFIED:20250529T144555Z
UID:10001702-1751450400-1751454000@newyorkwines.org
SUMMARY:2025 Lake Erie Regional Grape Program Coffee Pot Meeting
DESCRIPTION:2025 Lake Erie Regional Grape Program Coffee Pot Meeting \n\nJuly 2\, 2025 10:00am Chris & Heather Kaczor 10468 Lake Shore Rd. Irving\, NY 14081\n\nQuestions? 716-792-2800 or kjr45@cornell.edu \nLearn more at https://lergp.cce.cornell.edu/events.php
URL:https://newyorkwines.org/event/2025-lake-erie-regional-grape-program-coffee-pot-meeting-5/
CATEGORIES:Industry Events
ATTACH;FMTTYPE=image/png:https://newyorkwines.org/wp-content/uploads/2025/05/Lergp4Klogo_NOTEXT.png
END:VEVENT
BEGIN:VEVENT
DTSTART;TZID=America/New_York:20250716T100000
DTEND;TZID=America/New_York:20250716T110000
DTSTAMP:20260420T172647
CREATED:20250529T144852Z
LAST-MODIFIED:20250529T144910Z
UID:10001703-1752660000-1752663600@newyorkwines.org
SUMMARY:2025 Lake Erie Regional Grape Program Grower Demo Day
DESCRIPTION:2025 Lake Erie Regional Grape Program Coffee Pot Meeting \n\nJuly 16\, 2025\n10:00am\nGrower Demo Day at CLEREL 6592 West Main Rd. Portland\, NY 14769\n\nQuestions? 716-792-2800 or kjr45@cornell.edu \nLearn more at https://lergp.cce.cornell.edu/events.php
URL:https://newyorkwines.org/event/2025-lake-erie-regional-grape-program-grower-demo-day/
CATEGORIES:Industry Events
ATTACH;FMTTYPE=image/png:https://newyorkwines.org/wp-content/uploads/2025/05/Lergp4Klogo_NOTEXT.png
END:VEVENT
BEGIN:VEVENT
DTSTART;TZID=America/New_York:20250723T100000
DTEND;TZID=America/New_York:20250723T110000
DTSTAMP:20260420T172647
CREATED:20250529T145029Z
LAST-MODIFIED:20250529T145029Z
UID:10001704-1753264800-1753268400@newyorkwines.org
SUMMARY:2025 Lake Erie Regional Grape Program Coffee Pot Meeting
DESCRIPTION:2025 Lake Erie Regional Grape Program Coffee Pot Meeting \n\nJuly 23\, 2025 \n10:00am \nSchulze Vineyards & Winery 2090 Coomer Rd. Burt\, NY 14028\n\nQuestions? 716-792-2800 or kjr45@cornell.edu \nLearn more at https://lergp.cce.cornell.edu/events.php
URL:https://newyorkwines.org/event/2025-lake-erie-regional-grape-program-coffee-pot-meeting-6/
CATEGORIES:Industry Events
ATTACH;FMTTYPE=image/png:https://newyorkwines.org/wp-content/uploads/2025/05/Lergp4Klogo_NOTEXT.png
END:VEVENT
END:VCALENDAR