BEGIN:VCALENDAR
VERSION:2.0
PRODID:-//New York Wines - ECPv6.15.20//NONSGML v1.0//EN
CALSCALE:GREGORIAN
METHOD:PUBLISH
X-WR-CALNAME:New York Wines
X-ORIGINAL-URL:https://newyorkwines.org
X-WR-CALDESC:Events for New York Wines
REFRESH-INTERVAL;VALUE=DURATION:PT1H
X-Robots-Tag:noindex
X-PUBLISHED-TTL:PT1H
BEGIN:VTIMEZONE
TZID:America/New_York
BEGIN:DAYLIGHT
TZOFFSETFROM:-0500
TZOFFSETTO:-0400
TZNAME:EDT
DTSTART:20250309T070000
END:DAYLIGHT
BEGIN:STANDARD
TZOFFSETFROM:-0400
TZOFFSETTO:-0500
TZNAME:EST
DTSTART:20251102T060000
END:STANDARD
BEGIN:DAYLIGHT
TZOFFSETFROM:-0500
TZOFFSETTO:-0400
TZNAME:EDT
DTSTART:20260308T070000
END:DAYLIGHT
BEGIN:STANDARD
TZOFFSETFROM:-0400
TZOFFSETTO:-0500
TZNAME:EST
DTSTART:20261101T060000
END:STANDARD
BEGIN:DAYLIGHT
TZOFFSETFROM:-0500
TZOFFSETTO:-0400
TZNAME:EDT
DTSTART:20270314T070000
END:DAYLIGHT
BEGIN:STANDARD
TZOFFSETFROM:-0400
TZOFFSETTO:-0500
TZNAME:EST
DTSTART:20271107T060000
END:STANDARD
END:VTIMEZONE
BEGIN:VEVENT
DTSTART;TZID=America/New_York:20260506T100000
DTEND;TZID=America/New_York:20260506T120000
DTSTAMP:20260420T075158
CREATED:20260327T164440Z
LAST-MODIFIED:20260327T164440Z
UID:10001886-1778061600-1778068800@newyorkwines.org
SUMMARY:LERGP Coffee Pot Meeting #1 -Sprayer Calibration
DESCRIPTION:LERGP Growing Season Coffee Pot meetings- Come enjoy a morning of educational conversation with fellow growers and the LERGP team.  Have a cup of coffee and a donut and settle in for some discussion on current vineyard issues\, successes\, and relevant topics.  NYSDEC and PDA points have been applied for. \nDate \nMay 6\, 2026 \nTime \n10:00am – Noon \nLocation \nCLEREL\n6592 W Main Rd\nPortland\, NY 14769 \nHost \nLake Erie Regional Grape Program\nKate Robinson\n716-792-2800\nemail Kate Robinson \n  \nLearn more and register here!
URL:https://newyorkwines.org/event/lergp-coffee-pot-meeting-1-sprayer-calibration/
CATEGORIES:Industry Events
ATTACH;FMTTYPE=image/png:https://newyorkwines.org/wp-content/uploads/2025/05/Lergp4Klogo_NOTEXT.png
END:VEVENT
END:VCALENDAR