BEGIN:VCALENDAR
VERSION:2.0
PRODID:-//New York Wines - ECPv6.15.20//NONSGML v1.0//EN
CALSCALE:GREGORIAN
METHOD:PUBLISH
X-WR-CALNAME:New York Wines
X-ORIGINAL-URL:https://newyorkwines.org
X-WR-CALDESC:Events for New York Wines
REFRESH-INTERVAL;VALUE=DURATION:PT1H
X-Robots-Tag:noindex
X-PUBLISHED-TTL:PT1H
BEGIN:VTIMEZONE
TZID:America/New_York
BEGIN:DAYLIGHT
TZOFFSETFROM:-0500
TZOFFSETTO:-0400
TZNAME:EDT
DTSTART:20250309T070000
END:DAYLIGHT
BEGIN:STANDARD
TZOFFSETFROM:-0400
TZOFFSETTO:-0500
TZNAME:EST
DTSTART:20251102T060000
END:STANDARD
BEGIN:DAYLIGHT
TZOFFSETFROM:-0500
TZOFFSETTO:-0400
TZNAME:EDT
DTSTART:20260308T070000
END:DAYLIGHT
BEGIN:STANDARD
TZOFFSETFROM:-0400
TZOFFSETTO:-0500
TZNAME:EST
DTSTART:20261101T060000
END:STANDARD
BEGIN:DAYLIGHT
TZOFFSETFROM:-0500
TZOFFSETTO:-0400
TZNAME:EDT
DTSTART:20270314T070000
END:DAYLIGHT
BEGIN:STANDARD
TZOFFSETFROM:-0400
TZOFFSETTO:-0500
TZNAME:EST
DTSTART:20271107T060000
END:STANDARD
END:VTIMEZONE
BEGIN:VEVENT
DTSTART;VALUE=DATE:20260220
DTEND;VALUE=DATE:20260223
DTSTAMP:20260420T150219
CREATED:20260218T132033Z
LAST-MODIFIED:20260218T132033Z
UID:10001792-1771545600-1771804799@newyorkwines.org
SUMMARY:Wine & Chocolate Month
DESCRIPTION:February is the perfect time for a winter pick-me-up and a gentle reminder of all that is sweet (or dry) in life. \nCome join us in Lake Erie Wine Country for wine pairings and tastings that will bring some warmth to your Winter. \nEach winery will offer a sweet or savory food pairing with a featured wine and a tasting to follow. \nYour ticket entitles you to one tasting at each winery. You are welcome to visit on any or all three of the featured weekends\, so you can relax and allow yourself time to enjoy each winery you visit. You will also receive a voucher for $10 on a purchase of wine or merchandise. Our Wine Tasting tickets sell for $45. \nWe are also offering a Mocktail Ticket for our guests who would prefer a non-alcoholic option. Your $20 ticket entitles you to a special mocktail at each winery and the food pairing. [The mocktail ticket does not include the voucher]. \nEvent hours are: \n\nFriday 12:00-5:00\nSaturday: 10:00-5:00\nSunday 10:00-4:00\n\nThe Wine and Chocolate Celebration will take place on the following dates: \n\nFebruary 6-8\nFebruary 13-15\nFebruary 20-22\n\nPlease note that you will be selecting a Host Winery when you buy your ticket. When you arrive at the event\, you will start your Lake Erie Wine Country journey by picking up your tickets at the Host Winery you select when you make your ticket purchase. \nBe Our Guest at this special event and create special memories of sweetness and warmth that will sustain you until Spring! \n  \nLearn more and register here!
URL:https://newyorkwines.org/event/wine-chocolate-month/
CATEGORIES:Wine Trail Events
ATTACH;FMTTYPE=image/jpeg:https://newyorkwines.org/wp-content/uploads/2026/02/LEWC_Chocolate_SM_2026.jpg-1.jpeg
END:VEVENT
END:VCALENDAR