BEGIN:VCALENDAR
VERSION:2.0
PRODID:-//New York Wines - ECPv6.15.20//NONSGML v1.0//EN
CALSCALE:GREGORIAN
METHOD:PUBLISH
X-WR-CALNAME:New York Wines
X-ORIGINAL-URL:https://newyorkwines.org
X-WR-CALDESC:Events for New York Wines
REFRESH-INTERVAL;VALUE=DURATION:PT1H
X-Robots-Tag:noindex
X-PUBLISHED-TTL:PT1H
BEGIN:VTIMEZONE
TZID:America/New_York
BEGIN:DAYLIGHT
TZOFFSETFROM:-0500
TZOFFSETTO:-0400
TZNAME:EDT
DTSTART:20240310T070000
END:DAYLIGHT
BEGIN:STANDARD
TZOFFSETFROM:-0400
TZOFFSETTO:-0500
TZNAME:EST
DTSTART:20241103T060000
END:STANDARD
BEGIN:DAYLIGHT
TZOFFSETFROM:-0500
TZOFFSETTO:-0400
TZNAME:EDT
DTSTART:20250309T070000
END:DAYLIGHT
BEGIN:STANDARD
TZOFFSETFROM:-0400
TZOFFSETTO:-0500
TZNAME:EST
DTSTART:20251102T060000
END:STANDARD
BEGIN:DAYLIGHT
TZOFFSETFROM:-0500
TZOFFSETTO:-0400
TZNAME:EDT
DTSTART:20260308T070000
END:DAYLIGHT
BEGIN:STANDARD
TZOFFSETFROM:-0400
TZOFFSETTO:-0500
TZNAME:EST
DTSTART:20261101T060000
END:STANDARD
END:VTIMEZONE
BEGIN:VEVENT
DTSTART;TZID=America/New_York:20251109T120000
DTEND;TZID=America/New_York:20251109T170000
DTSTAMP:20260420T105337
CREATED:20251021T195418Z
LAST-MODIFIED:20251021T195418Z
UID:10001745-1762689600-1762707600@newyorkwines.org
SUMMARY:Share the Bounty on the Niagara Wine Trail
DESCRIPTION:A fundraiser to benefit the Niagara Wine Trail Scholarship\nNovember 8th & 9th \nTake a self-guided tour along the Niagara Wine Trail in support of our agricultural scholarship fund. Each winery will have a keepsake for you to take home and use at your next wine party – collect a set of coasters plus a charcuterie tray! \nProceeds from this event will go towards the Niagara Wine Trail Scholarship. The scholarship will benefit a student in an enology\, viticulture\, or related agricultural program. \nRegister Here
URL:https://newyorkwines.org/event/share-the-bounty-on-the-niagara-wine-trail/2025-11-09/
CATEGORIES:Wine Trail Events
ATTACH;FMTTYPE=image/png:https://newyorkwines.org/wp-content/uploads/2023/09/NWT_Full_Logo_NY_Text_and_glass_color.png
END:VEVENT
END:VCALENDAR