BEGIN:VCALENDAR
VERSION:2.0
PRODID:-//New York Wines - ECPv6.15.20//NONSGML v1.0//EN
CALSCALE:GREGORIAN
METHOD:PUBLISH
X-WR-CALNAME:New York Wines
X-ORIGINAL-URL:https://newyorkwines.org
X-WR-CALDESC:Events for New York Wines
REFRESH-INTERVAL;VALUE=DURATION:PT1H
X-Robots-Tag:noindex
X-PUBLISHED-TTL:PT1H
BEGIN:VTIMEZONE
TZID:America/New_York
BEGIN:DAYLIGHT
TZOFFSETFROM:-0500
TZOFFSETTO:-0400
TZNAME:EDT
DTSTART:20250309T070000
END:DAYLIGHT
BEGIN:STANDARD
TZOFFSETFROM:-0400
TZOFFSETTO:-0500
TZNAME:EST
DTSTART:20251102T060000
END:STANDARD
BEGIN:DAYLIGHT
TZOFFSETFROM:-0500
TZOFFSETTO:-0400
TZNAME:EDT
DTSTART:20260308T070000
END:DAYLIGHT
BEGIN:STANDARD
TZOFFSETFROM:-0400
TZOFFSETTO:-0500
TZNAME:EST
DTSTART:20261101T060000
END:STANDARD
BEGIN:DAYLIGHT
TZOFFSETFROM:-0500
TZOFFSETTO:-0400
TZNAME:EDT
DTSTART:20270314T070000
END:DAYLIGHT
BEGIN:STANDARD
TZOFFSETFROM:-0400
TZOFFSETTO:-0500
TZNAME:EST
DTSTART:20271107T060000
END:STANDARD
END:VTIMEZONE
BEGIN:VEVENT
DTSTART;VALUE=DATE:20260221
DTEND;VALUE=DATE:20260223
DTSTAMP:20260420T062702
CREATED:20260218T132411Z
LAST-MODIFIED:20260218T132411Z
UID:10001793-1771632000-1771804799@newyorkwines.org
SUMMARY:Be Mine with Wine
DESCRIPTION:Wine and Sweet treat pairing experience\nFebruary 21st & 22nd\n\nHow sweet love is! Bring your sweetheart\, family or friends to celebrate Valentine’s Day weekend on the Niagara Wine Trail. \nBe Mine With Wine is a unique & intimate wine and chocolate pairing experience that allows ticket holders to visit multiple wineries over the course of two days\, sampling one chocolate and three wines at each of their stops\, Saturday and Sunday\, Feb. 21 & 22\, from 12-5pm both days. \nWine tasting ticket includes: \n\nTasting of 3 wines from each participating winery location\nA paired sweet treat at each of the participating winery\n\nDesignated driver ticket includes:  \n\nA paired sweet treat at each of the participating winery\n\n  \nLearn more and register here!
URL:https://newyorkwines.org/event/be-mine-with-wine/
CATEGORIES:Wine Trail Events
ATTACH;FMTTYPE=image/jpeg:https://newyorkwines.org/wp-content/uploads/2026/02/bemine2021_600x629-320x202-1.jpg
END:VEVENT
END:VCALENDAR