BEGIN:VCALENDAR
VERSION:2.0
PRODID:-//New York Wines - ECPv6.15.20//NONSGML v1.0//EN
CALSCALE:GREGORIAN
METHOD:PUBLISH
X-WR-CALNAME:New York Wines
X-ORIGINAL-URL:https://newyorkwines.org
X-WR-CALDESC:Events for New York Wines
REFRESH-INTERVAL;VALUE=DURATION:PT1H
X-Robots-Tag:noindex
X-PUBLISHED-TTL:PT1H
BEGIN:VTIMEZONE
TZID:America/New_York
BEGIN:DAYLIGHT
TZOFFSETFROM:-0500
TZOFFSETTO:-0400
TZNAME:EDT
DTSTART:20250309T070000
END:DAYLIGHT
BEGIN:STANDARD
TZOFFSETFROM:-0400
TZOFFSETTO:-0500
TZNAME:EST
DTSTART:20251102T060000
END:STANDARD
BEGIN:DAYLIGHT
TZOFFSETFROM:-0500
TZOFFSETTO:-0400
TZNAME:EDT
DTSTART:20260308T070000
END:DAYLIGHT
BEGIN:STANDARD
TZOFFSETFROM:-0400
TZOFFSETTO:-0500
TZNAME:EST
DTSTART:20261101T060000
END:STANDARD
BEGIN:DAYLIGHT
TZOFFSETFROM:-0500
TZOFFSETTO:-0400
TZNAME:EDT
DTSTART:20270314T070000
END:DAYLIGHT
BEGIN:STANDARD
TZOFFSETFROM:-0400
TZOFFSETTO:-0500
TZNAME:EST
DTSTART:20271107T060000
END:STANDARD
END:VTIMEZONE
BEGIN:VEVENT
DTSTART;TZID=America/New_York:20260502T120000
DTEND;TZID=America/New_York:20260502T170000
DTSTAMP:20260420T005553
CREATED:20260316T135027Z
LAST-MODIFIED:20260316T135027Z
UID:10001875-1777723200-1777741200@newyorkwines.org
SUMMARY:Derby Dash on the Niagara Wine Trail
DESCRIPTION:Saturday\, May 2nd \nJoin us for a wine tour along the Niagara Wine Trail in NY State. A portion of the proceeds from the event will be donated to the American Cancer Society.\nDerby attire encouraged! \nChoose from General tasting or VIP tickets. \nLearn More and Register Here
URL:https://newyorkwines.org/event/derby-dash-on-the-niagara-wine-trail/
CATEGORIES:Wine Trail Events
ATTACH;FMTTYPE=image/jpeg:https://newyorkwines.org/wp-content/uploads/2026/03/derby-dash-2026-sq-320x202-1.jpg
END:VEVENT
BEGIN:VEVENT
DTSTART;VALUE=DATE:20260606
DTEND;VALUE=DATE:20260608
DTSTAMP:20260420T005553
CREATED:20260226T214853Z
LAST-MODIFIED:20260226T214853Z
UID:10001860-1780704000-1780876799@newyorkwines.org
SUMMARY:Wine & Charcuterie on the Niagara Wine Trail
DESCRIPTION:Wine and Charcuterie Pairing Experience\nJune 6th and 7th\nSponsored by Yancey’s Fancy and Finger Lakes Artisan Foods \nJoin us for a unique weekend tasting experience with local wine pairings! \nTake a self-guided tour along the Niagara Wine Trail this summer and get inspiration on how to incorporate wine and the art of charcuterie at your next gathering. As you sample 3 wines from each participating winery\, enjoy samples of cheeses\, meats\, dips\, and other essentials\, along with how-to presentations you can incorporate into making your own board. \nWine tasting ticket includes: \n\nTasting of 3 wines from each participating winery location\nA cheese sample to pair with your wine tasting from each winery\n1 keepsake wine glass from your starting winery\n\nLearn More and Register Here
URL:https://newyorkwines.org/event/wine-charcuterie-on-the-niagara-wine-trail-2/
CATEGORIES:Wine Trail Events
ATTACH;FMTTYPE=image/jpeg:https://newyorkwines.org/wp-content/uploads/2026/02/wine_and_charcuterie_2025_600x620-320x202-1.jpg
END:VEVENT
BEGIN:VEVENT
DTSTART;VALUE=DATE:20260926
DTEND;VALUE=DATE:20260928
DTSTAMP:20260420T005553
CREATED:20260226T215105Z
LAST-MODIFIED:20260226T215105Z
UID:10001861-1790380800-1790553599@newyorkwines.org
SUMMARY:Harvest Festival on the Niagara Wine Trail
DESCRIPTION:Celebrate the harvest with local wines paired with seasonal foods\nSeptember 26th and 27th\nTake a self-guided tour along the Niagara Wine Trail this weekend and have some fun with your closest friends and loved ones. \nGet inspiration for a night in or what to serve at your next dinner party with samples of a harvest-themed appetizer\, salad\, soup\, side dish\, or dessert with your wine pairing at each participating member winery. \nLearn More and Register Here
URL:https://newyorkwines.org/event/harvest-festival-on-the-niagara-wine-trail-2/
CATEGORIES:Wine Trail Events
ATTACH;FMTTYPE=image/jpeg:https://newyorkwines.org/wp-content/uploads/2026/02/Harvest-Festival-square_NWT_site-320x202-1.jpg
END:VEVENT
BEGIN:VEVENT
DTSTART;TZID=America/New_York:20261017T120000
DTEND;TZID=America/New_York:20261017T170000
DTSTAMP:20260420T005553
CREATED:20260226T215308Z
LAST-MODIFIED:20260226T215308Z
UID:10001862-1792238400-1792256400@newyorkwines.org
SUMMARY:Hallowine Murder Mystery on the Niagara Wine Trail
DESCRIPTION:Wine tasting paired with . . . murder! \nOctober 17th\nJoin us for a murder mystery along the Niagara Wine Trail. Come as yourself or in costume!\nCollect clues and interview a different suspect character at each participating winery to solve the murder mystery. \nChoose from General tasting or VIP tickets. \nLearn More and Register Here
URL:https://newyorkwines.org/event/hallowine-murder-mystery-on-the-niagara-wine-trail-2/
CATEGORIES:Wine Trail Events
ATTACH;FMTTYPE=image/jpeg:https://newyorkwines.org/wp-content/uploads/2026/02/hallowine_620x620-320x202-1.jpg
END:VEVENT
BEGIN:VEVENT
DTSTART;VALUE=DATE:20261205
DTEND;VALUE=DATE:20261207
DTSTAMP:20260420T005553
CREATED:20260226T215632Z
LAST-MODIFIED:20260226T215632Z
UID:10001863-1796428800-1796601599@newyorkwines.org
SUMMARY:Holiday Happening on the Niagara Wine Trail
DESCRIPTION:December 5 & 6\, 2026 \nMore information will be available in the coming months! \nLearn More and Register Here
URL:https://newyorkwines.org/event/holiday-happening-on-the-niagara-wine-trail-2/
CATEGORIES:Wine Trail Events
ATTACH;FMTTYPE=image/jpeg:https://newyorkwines.org/wp-content/uploads/2026/02/Holiday-Happening-square-nodate-320x202-1.jpg
END:VEVENT
END:VCALENDAR