BEGIN:VCALENDAR
VERSION:2.0
PRODID:-//New York Wines - ECPv6.15.20//NONSGML v1.0//EN
CALSCALE:GREGORIAN
METHOD:PUBLISH
X-ORIGINAL-URL:https://newyorkwines.org
X-WR-CALDESC:Events for New York Wines
REFRESH-INTERVAL;VALUE=DURATION:PT1H
X-Robots-Tag:noindex
X-PUBLISHED-TTL:PT1H
BEGIN:VTIMEZONE
TZID:America/New_York
BEGIN:DAYLIGHT
TZOFFSETFROM:-0500
TZOFFSETTO:-0400
TZNAME:EDT
DTSTART:20240310T070000
END:DAYLIGHT
BEGIN:STANDARD
TZOFFSETFROM:-0400
TZOFFSETTO:-0500
TZNAME:EST
DTSTART:20241103T060000
END:STANDARD
BEGIN:DAYLIGHT
TZOFFSETFROM:-0500
TZOFFSETTO:-0400
TZNAME:EDT
DTSTART:20250309T070000
END:DAYLIGHT
BEGIN:STANDARD
TZOFFSETFROM:-0400
TZOFFSETTO:-0500
TZNAME:EST
DTSTART:20251102T060000
END:STANDARD
BEGIN:DAYLIGHT
TZOFFSETFROM:-0500
TZOFFSETTO:-0400
TZNAME:EDT
DTSTART:20260308T070000
END:DAYLIGHT
BEGIN:STANDARD
TZOFFSETFROM:-0400
TZOFFSETTO:-0500
TZNAME:EST
DTSTART:20261101T060000
END:STANDARD
END:VTIMEZONE
BEGIN:VEVENT
DTSTART;TZID=America/New_York:20250306T090000
DTEND;TZID=America/New_York:20250306T103000
DTSTAMP:20260419T165308
CREATED:20250228T182028Z
LAST-MODIFIED:20250228T182139Z
UID:10001635-1741251600-1741257000@newyorkwines.org
SUMMARY:Uncorking Collaboration: The New York Wine & Retailer Roundtable Series
DESCRIPTION:Join us for a series of three* dynamic\, facilitated panel discussions designed to foster collaboration and strengthen partnerships between New York wineries and retailers. \nThis series provides a unique platform to discuss strategies\, share insights\, and explore actionable steps to enhance the presence of New York wines in retail settings. \n*NOTE: By registering you will receive a calendar hold and information for all three webinars in the series to be held on January 29th\, February 5th\, and March 6th. \n  \nSession 1: Consumer Marketing | January 29th | 9am-10:30am\nThis session will focus on the successes and challenges of marketing New York wines in retail environments. We’ll explore effective strategies for showcasing New York wines in-store\, framing their unique value proposition\, and engaging directly with customers. \nKey Discussion Topics: \nValue Proposition: Highlighting the appeal of New York wines\, including small-scale\, family-owned sustainability; excellent price-to-value ratio; and versatile food-pairing ability. \nBest Practices: Sharing proven tactics for in-store promotion and consumer engagement. \nSpeakers: Host/Facilitator: Dan Belmont\, Wine Educator and Retailer \nPanelists: \n\nChad Hendrickson\, Brand Ambassador\, Lakewood Vineyards\nYancey Stanforth-Migliore\, Co-Founder\, Whitecliff Vineyards\nMatt Yaeger\, Owner\, Pinnacle Wine & Liquor | Rochester\nMichael A. Correra\, Owner\, Michael-Towne Wines & Spirits | Brooklyn Heights\n\nDon’t miss this opportunity to be part of an engaging conversation that drives collaboration and supports the growth of New York wines! \nSession 2: Logistics & Resources | February 5th | 9am – 10:30am\nThis session will dive into the journey of New York wine as it moves from producer to distributor to retailer\, highlighting both the successes and challenges along the way. From streamlining operations to overcoming logistical barriers\, this conversation aims to identify opportunities for collaboration and innovation in the supply chain. The panelists will share their experiences and provide practical solutions to common challenges. By addressing the logistics of bringing New York wine to market\, participants will gain valuable insights and tools to enhance the efficiency and success of their operations. \nKey Discussion Topics: \nSuccess Stories and Challenges: Insights into what works and what doesn’t in the production\, distribution\, and retail process for New York wines. \nCollaboration Across the Supply Chain: Strategies for improving communication and efficiency among wineries\, distributors\, and retailers. \nThe Role of Self-Distribution: Exploring how self-distributing wineries navigate logistics and build direct relationships with retailers. \nSpeakers: \nHost/Facilitator: Dan Belmont\, Wine Educator and Retailer \nPanelists: \n\nKatie Roller\, Portfolio Manager\, NYS | Opici Family Distributing\n\n\nChad Hendrickson\, Brand Ambassador\, Lakewood Vineyards\nYancey Stanforth-Migliore\, Co-Founder\, Whitecliff Vineyards\nMatt Yaeger\, Owner\, Pinnacle Wine & Liquor | Rochester\nMichael A. Correra\, Owner\, Michael-Towne Wines & Spirits | Brooklyn Heights\n\nSession 3: Findings & Next Steps | March 6th | 9am – 10:30am\nJoin us for the final installment of our three-part roundtable series\, designed to strengthen connections and foster collaboration between New York wineries\, retailers\, and distributors. This culminating session will bring together insights from the entire series and outline actionable next steps for driving the success of New York wines in retail settings. \nIn this final session\, we will reflect on the key takeaways from the previous two discussions—Consumer Marketing and Logistics & Resources—and provide a comprehensive summary of the challenges\, successes\, and proposed solutions identified throughout the series. Participants will have the opportunity to engage in forward-thinking discussions about how to sustain momentum and foster continued collaboration. \nKey Discussion Topics: \nFindings Summary: A review of insights and actionable solutions shared in the first two sessions. \nSuccess Stories: Highlighting standout examples of effective strategies and partnerships that emerged during the roundtable discussions. \nFuture Opportunities: Exploring ideas for ongoing dialogue\, including the potential formation of committees or working groups to address shared goals and challenges. \nSpeakers: \n\nHost/Facilitator: Dan Belmont\, Wine Educator and Retailer\n\nPanelists: \n\nChad Hendrickson\, Brand Ambassador\, Lakewood Vineyards\nYancey Stanforth-Migliore\, Co-Founder\, Whitecliff Vineyards\nMatt Yaeger\, Owner\, Pinnacle Wine & Liquor | Rochester\nMichael A. Correra\, Owner\, Michael-Towne Wines & Spirits | Brooklyn Heights\n\nWhy Attend? \nThe final session offers a unique chance to build on the progress made throughout the series and shape the future of New York wine’s presence in the retail market. Whether you’re a winery\, retailer\, distributor\, or industry stakeholder\, your voice is vital to this conversation. Together\, we can create a stronger\, more cohesive ecosystem for New York wine. \nJoin us as we discuss lessons learned from the series\, discuss opportunities for future collaboration\, and solidify a shared vision for growth and success. Don’t miss this chance to help define the next steps for promoting New York wines! \n  \n*NOTE: By registering you will receive a calendar hold and information for all three webinars in the series to be held on January 29th\, February 5th\, and March 6th. If you have already registered for a previous session\, you do not need to register again. \n  \nRegister for Uncorking Collaboration: The New York Wine & Retailer Roundtable Series Here
URL:https://newyorkwines.org/event/uncorking-collaboration-the-new-york-wine-retailer-roundtable-series-2/
CATEGORIES:Industry Events
ATTACH;FMTTYPE=image/png:https://newyorkwines.org/wp-content/uploads/2025/01/Business-Partner.png
END:VEVENT
END:VCALENDAR