BEGIN:VCALENDAR
VERSION:2.0
PRODID:-//New York Wines - ECPv6.15.20//NONSGML v1.0//EN
CALSCALE:GREGORIAN
METHOD:PUBLISH
X-WR-CALNAME:New York Wines
X-ORIGINAL-URL:https://newyorkwines.org
X-WR-CALDESC:Events for New York Wines
REFRESH-INTERVAL;VALUE=DURATION:PT1H
X-Robots-Tag:noindex
X-PUBLISHED-TTL:PT1H
BEGIN:VTIMEZONE
TZID:America/New_York
BEGIN:DAYLIGHT
TZOFFSETFROM:-0500
TZOFFSETTO:-0400
TZNAME:EDT
DTSTART:20250309T070000
END:DAYLIGHT
BEGIN:STANDARD
TZOFFSETFROM:-0400
TZOFFSETTO:-0500
TZNAME:EST
DTSTART:20251102T060000
END:STANDARD
BEGIN:DAYLIGHT
TZOFFSETFROM:-0500
TZOFFSETTO:-0400
TZNAME:EDT
DTSTART:20260308T070000
END:DAYLIGHT
BEGIN:STANDARD
TZOFFSETFROM:-0400
TZOFFSETTO:-0500
TZNAME:EST
DTSTART:20261101T060000
END:STANDARD
BEGIN:DAYLIGHT
TZOFFSETFROM:-0500
TZOFFSETTO:-0400
TZNAME:EDT
DTSTART:20270314T070000
END:DAYLIGHT
BEGIN:STANDARD
TZOFFSETFROM:-0400
TZOFFSETTO:-0500
TZNAME:EST
DTSTART:20271107T060000
END:STANDARD
END:VTIMEZONE
BEGIN:VEVENT
DTSTART;VALUE=DATE:20260417
DTEND;VALUE=DATE:20260420
DTSTAMP:20260420T063527
CREATED:20260127T015026Z
LAST-MODIFIED:20260127T015026Z
UID:10001779-1776384000-1776643199@newyorkwines.org
SUMMARY:Spring Wine and Cheese on the Seneca Lake Wine Trail
DESCRIPTION:Savor the Flavors with our annual Spring Wine and Cheese event! \n\n\n2026 Dates: Friday\, April 17 – Saturday\, April 18 – Sunday\, April 19. Tickets are good for all three days. You can come for one day\, two days\, or all three. You may taste at each winery once. \nJoin us for a self-guided visit to wineries around Seneca Lake\, while celebrating the fan favorite pairing of wine and cheese. This exclusive event invites you to explore a selection of cheese-themed dishes\, each thoughtfully paired with the region’s great wines. \nEach wine tasting ticketholder receives a wine and food pairing\, plus an additional three tastings at each participating winery. Designated drivers receive the food offering at each participating winery\, plus non-alcoholic beverages along the way. \nHave other questions about how our events work? Check out our Event FAQs \n\nRegister and learn more here!
URL:https://newyorkwines.org/event/spring-wine-and-cheese-on-the-seneca-lake-wine-trail-2/
CATEGORIES:Wine Trail Events
ATTACH;FMTTYPE=image/webp:https://newyorkwines.org/wp-content/uploads/2026/01/SLWT-Wine-and-Cheese-1.webp
END:VEVENT
END:VCALENDAR