BEGIN:VCALENDAR
VERSION:2.0
PRODID:-//New York Wines - ECPv6.15.20//NONSGML v1.0//EN
CALSCALE:GREGORIAN
METHOD:PUBLISH
X-WR-CALNAME:New York Wines
X-ORIGINAL-URL:https://newyorkwines.org
X-WR-CALDESC:Events for New York Wines
REFRESH-INTERVAL;VALUE=DURATION:PT1H
X-Robots-Tag:noindex
X-PUBLISHED-TTL:PT1H
BEGIN:VTIMEZONE
TZID:America/New_York
BEGIN:DAYLIGHT
TZOFFSETFROM:-0500
TZOFFSETTO:-0400
TZNAME:EDT
DTSTART:20250309T070000
END:DAYLIGHT
BEGIN:STANDARD
TZOFFSETFROM:-0400
TZOFFSETTO:-0500
TZNAME:EST
DTSTART:20251102T060000
END:STANDARD
BEGIN:DAYLIGHT
TZOFFSETFROM:-0500
TZOFFSETTO:-0400
TZNAME:EDT
DTSTART:20260308T070000
END:DAYLIGHT
BEGIN:STANDARD
TZOFFSETFROM:-0400
TZOFFSETTO:-0500
TZNAME:EST
DTSTART:20261101T060000
END:STANDARD
BEGIN:DAYLIGHT
TZOFFSETFROM:-0500
TZOFFSETTO:-0400
TZNAME:EDT
DTSTART:20270314T070000
END:DAYLIGHT
BEGIN:STANDARD
TZOFFSETFROM:-0400
TZOFFSETTO:-0500
TZNAME:EST
DTSTART:20271107T060000
END:STANDARD
END:VTIMEZONE
BEGIN:VEVENT
DTSTART;VALUE=DATE:20260510
DTEND;VALUE=DATE:20260527
DTSTAMP:20260420T035038
CREATED:20260127T015322Z
LAST-MODIFIED:20260127T015322Z
UID:10001780-1778371200-1779839999@newyorkwines.org
SUMMARY:Sip Into Spring Tasting Pass on the Seneca Lake
DESCRIPTION:Spring is in the air—and in your glass. 🌷🍷\n\n\nCelebrate the season with Sip Into Spring\, a tasting pass on the Seneca Lake Wine Trail\, available to use any time May 10\, 2026 through May 21\, 2026. \nWith one all-inclusive pass\, you’ll enjoy wine tastings at 17 participating wineries around beautiful Seneca Lake. It’s the perfect excuse to explore new favorites\, revisit beloved stops\, and experience the trail as vineyards awaken for the season. \nTake your time\, set your own pace\, and soak in scenic views\, fresh releases\, and the welcoming hospitality that makes the Seneca Lake Wine Trail so special. Whether you spread your visits out over the week or plan a few focused days of tasting\, Sip Into Spring is your invitation to savor spring in the Finger Lakes—one sip at a time. \n\nLearn more and purchase your pass here.
URL:https://newyorkwines.org/event/sip-into-spring-tasting-pass-on-the-seneca-lake/
CATEGORIES:Trade & Media Events
ATTACH;FMTTYPE=image/webp:https://newyorkwines.org/wp-content/uploads/2026/01/SLWT-Sip-into-Spring-Tasting-Pass.webp
END:VEVENT
BEGIN:VEVENT
DTSTART;TZID=America/New_York:20260602T090000
DTEND;TZID=America/New_York:20260602T120000
DTSTAMP:20260420T035038
CREATED:20260314T154815Z
LAST-MODIFIED:20260314T154815Z
UID:10001874-1780390800-1780401600@newyorkwines.org
SUMMARY:From Pour to Presence: Hospitality Training
DESCRIPTION:Discover New Heights of Hospitality with the Seneca Lake Wine Trail\nFrom Pour to Presence: Hospitality Training\n \nPresented by: Cheryl Stanley\, Senior Lecturer\, Food and Beverage Management\, Nolan School of Hotel Administration\, Cornell SC Johnson College of Business \n\nTuesday\, June 2 • 9am-12pm • Veraisons Restaurant at Glenora Wine Cellars\nHospitality in a tasting room is not just “being nice” or pouring wine with a smile. It’s about intentional guest experience design\, emotional connection\, and consistency.\nThis training\, designed specifically for Finger Lakes winery tasting rooms will go well beyond service basics and cover these five core areas:\n\nGuest Centered Mindset (Hospitality vs. Service)\nWarm\, Confident First Impressions\nStorytelling That Connects (not recites)\nGuided Experiences & Personalization\n\nClosing the Experience with Care\n\n\nRegistration:\n \n\n\nFree for member wineries.\n\n\n$100 for non-member wineries and representatives from non-member winery organizations.\n\n\nTo register\, click or copy and paste this link: https://forms.gle/4ZubHziL4aKTkTBV8\n\n\n\nAbout Our Presenter:\nCheryl Stanley is a food and beverage senior lecturer at Cornell’s Nolan School of Hotel Administration within the SC Johnson College of Business. With over 30 years in the food and beverage industry\, she has worked in operations and consulting before teaching. At her alma mater\, Stanley teaches Introduction to Wines and Beverage Management where she combines theory with practice. A 2017 Wine Enthusiast Magazine’s 40 under 40 Tastemakers\, Stanley is certified through multiple wine organizations and is the faculty advisor for Cornell Cuvée\, the blind wine tasting competition team.\n______________________________________________________\n \nTo learn more about the 2026 educational opportunities offered by the Seneca Lake Wine Trail\, please visit: https://senecalakewine.com/educational-opportunities/
URL:https://newyorkwines.org/event/from-pour-to-presence-hospitality-training/
CATEGORIES:Industry Events
ATTACH;FMTTYPE=image/png:https://newyorkwines.org/wp-content/uploads/2025/05/thumbnail_SLWT-RGB-1.png
END:VEVENT
BEGIN:VEVENT
DTSTART;VALUE=DATE:20260606
DTEND;VALUE=DATE:20260608
DTSTAMP:20260420T035038
CREATED:20260127T015708Z
LAST-MODIFIED:20260127T015708Z
UID:10001781-1780704000-1780876799@newyorkwines.org
SUMMARY:Smokin’ Summer Kickoff on the Seneca Lake Wine Trail
DESCRIPTION:Savor summer with this wine and food pairing event on Seneca Lake!\n\n\n2026 Dates: Saturday\, June 6\, 2026 and Sunday\, June 7\, 2026 \nSaturday\, June 6\, 2026 – 10am-5pm\nSunday\, June 7\, 2026 – 10am-5pm \nJoin us for an unforgettable summer celebration as 13 outstanding wineries come together to present a wine and food pairing experience like no other. Set against a backdrop of sunny skies and warm breezes\, this event will highlight seasonal wines perfectly paired with delicious summer-themed and barbecue fare. \nEach wine tasting ticketholder receives a wine and food pairing\, plus an additional three tastings at each participating winery. Designated drivers receive the food offering at each participating winery\, plus non-alcoholic beverages along the way. \n\nLearn more and register here!
URL:https://newyorkwines.org/event/smokin-summer-kickoff-on-the-seneca-lake-wine-trail-2/
CATEGORIES:Wine Trail Events
ATTACH;FMTTYPE=image/webp:https://newyorkwines.org/wp-content/uploads/2026/01/SLWT-Smokin-2.webp
END:VEVENT
BEGIN:VEVENT
DTSTART;VALUE=DATE:20260821
DTEND;VALUE=DATE:20260829
DTSTAMP:20260420T035038
CREATED:20260127T020251Z
LAST-MODIFIED:20260127T020426Z
UID:10001782-1787270400-1787961599@newyorkwines.org
SUMMARY:Gone to the Dogs Tasting Pass on the Seneca Lake Wine Trail
DESCRIPTION:We’re bringing together two things you love – dogs and wine – for a doggone great time on the Seneca Lake Wine Trail!\n\n\nPrice: $50 per tasting pass\, including taxes and fees. Passes are non-refundable. Ticket insurance is available\, for an extra fee at checkout via our third-party partner. \nOne pass = one complimentary tasting flight poured at each winery. \nOver seven days – August 21-28\, 2026 – passholders can enjoy visiting and sampling wines at participating wineries\, during each winery’s regular business hours. Your ticket includes wine tasting\, dog biscuits\, and a special bandana for your dog! \nYou can come for a day or two\, or spread your visits out over the entire event duration (your ticket only entitles you to one tasting at each winery). \nYou must be traveling with a dog to purchase this tasting pass. \n\nLearn more and purchase your pass here!
URL:https://newyorkwines.org/event/gone-to-the-dogs-tasting-pass-on-the-seneca-lake-wine-trail/
CATEGORIES:Wine Trail Events
ATTACH;FMTTYPE=image/webp:https://newyorkwines.org/wp-content/uploads/2026/01/SLWT-Gone-to-the-Dogs-7.webp
END:VEVENT
BEGIN:VEVENT
DTSTART;VALUE=DATE:20261120
DTEND;VALUE=DATE:20261123
DTSTAMP:20260420T035038
CREATED:20260127T020819Z
LAST-MODIFIED:20260127T020819Z
UID:10001783-1795132800-1795391999@newyorkwines.org
SUMMARY:November Deck the Halls on the Seneca Lake Wine Trail: Weekend 1
DESCRIPTION:Celebrate the holiday season with Deck the Halls on the Seneca Lake Wine Trail!\n\n\nDuring this event\, you’ll enjoy a self-guided tour of participating Seneca Lake Wine Trail wineries decked out for the holiday season\, sampling delicious wine and food pairings\, and collecting ornaments at each stop. \nThis event sells out every year! Get your tickets early to avoid disappointment!  \nHave questions about how our events work? CLICK HERE to view answers to frequently asked questions. \nFriday\, November 20\, 2026: 12pm – 5pm\nSaturday\, November 21\, 2026: 10am – 5pm\nSunday\, November 22\, 2026: 10am – 5pm \nTickets are good for all three days. We encourage you to spread your winery visits out. You must begin at your chosen starting winery\, but then you can visit wineries in any order you choose\, visiting each winery once throughout the course of the weekend. \nThis is for the first weekend of Deck the Halls – we host two separate weekends for this event. Be sure to select the correct one as tickets cannot be exchanged between the two. \nRegister and learn more here!
URL:https://newyorkwines.org/event/november-deck-the-halls-on-the-seneca-lake-wine-trail-weekend-1/
CATEGORIES:Trade & Media Events
ATTACH;FMTTYPE=image/webp:https://newyorkwines.org/wp-content/uploads/2026/01/SLWT-Deck-the-Halls-Header.webp
END:VEVENT
BEGIN:VEVENT
DTSTART;VALUE=DATE:20261204
DTEND;VALUE=DATE:20261207
DTSTAMP:20260420T035038
CREATED:20260127T021215Z
LAST-MODIFIED:20260127T021215Z
UID:10001784-1796342400-1796601599@newyorkwines.org
SUMMARY:December Deck the Halls on the Seneca Lake Wine Trail: Weekend 2
DESCRIPTION:Celebrate the holiday season with Deck the Halls on the Seneca Lake Wine Trail!\n\n\nDuring this event\, you’ll enjoy a self-guided tour of participating Seneca Lake Wine Trail wineries decked out for the holiday season\, sampling delicious wine and food pairings and collecting ornaments at each stop. \nLooking for event recipes? CLICK HERE to see the 2025 Recipe Book. \nThis event sells out every year.  \nHave questions? CLICK HERE to view answers to frequently asked questions. \nFriday\, December 4\, 2026: 12pm – 5pm\nSaturday\, December 5\, 2026: 10am – 5pm\nSunday\, December 6\, 2026: 10am – 5pm \nTickets are good for all three days. We encourage you to spread your winery visits out. You must begin at your chosen starting winery\, but then you can visit wineries in any order you choose\, visiting each winery once throughout the course of the weekend. \nThis is for the *second weekend* of Deck the Halls – we host two separate weekends for this event. Be sure to select the correct one as tickets cannot be exchanged between the two. \n\nLearn more and register here!
URL:https://newyorkwines.org/event/december-deck-the-halls-on-the-seneca-lake-wine-trail-weekend-2/
CATEGORIES:Wine Trail Events
ATTACH;FMTTYPE=image/webp:https://newyorkwines.org/wp-content/uploads/2026/01/SLWT-Deck-the-Halls-Header-1.webp
END:VEVENT
END:VCALENDAR