BEGIN:VCALENDAR
VERSION:2.0
PRODID:-//New York Wines - ECPv6.15.20//NONSGML v1.0//EN
CALSCALE:GREGORIAN
METHOD:PUBLISH
X-WR-CALNAME:New York Wines
X-ORIGINAL-URL:https://newyorkwines.org
X-WR-CALDESC:Events for New York Wines
REFRESH-INTERVAL;VALUE=DURATION:PT1H
X-Robots-Tag:noindex
X-PUBLISHED-TTL:PT1H
BEGIN:VTIMEZONE
TZID:America/New_York
BEGIN:DAYLIGHT
TZOFFSETFROM:-0500
TZOFFSETTO:-0400
TZNAME:EDT
DTSTART:20200308T070000
END:DAYLIGHT
BEGIN:STANDARD
TZOFFSETFROM:-0400
TZOFFSETTO:-0500
TZNAME:EST
DTSTART:20201101T060000
END:STANDARD
BEGIN:DAYLIGHT
TZOFFSETFROM:-0500
TZOFFSETTO:-0400
TZNAME:EDT
DTSTART:20210314T070000
END:DAYLIGHT
BEGIN:STANDARD
TZOFFSETFROM:-0400
TZOFFSETTO:-0500
TZNAME:EST
DTSTART:20211107T060000
END:STANDARD
BEGIN:DAYLIGHT
TZOFFSETFROM:-0500
TZOFFSETTO:-0400
TZNAME:EDT
DTSTART:20220313T070000
END:DAYLIGHT
BEGIN:STANDARD
TZOFFSETFROM:-0400
TZOFFSETTO:-0500
TZNAME:EST
DTSTART:20221106T060000
END:STANDARD
END:VTIMEZONE
BEGIN:VEVENT
DTSTART;VALUE=DATE:20210419
DTEND;VALUE=DATE:20210422
DTSTAMP:20260423T103202
CREATED:20210121T222520Z
LAST-MODIFIED:20210301T153250Z
UID:10000602-1618790400-1619049599@newyorkwines.org
SUMMARY:U.S. Sustainable Winegrowing Summit
DESCRIPTION:Who: A gathering of regional winery and vineyard associations\, engaged grower and vintner leaders\, and others committed to the sustainability of their local vineyards\, wineries and regions. \nWhat: Learn some of the driving forces behind the increasing interest in sustainable winegrowing. Be inspired with new ideas on how to bring sustainability education and outreach to your region’s vineyards and wineries. \nWhy: Together we can enhance the sustainability of all U.S. vineyards and wineries and credibly communicate the nationwide commitment to a global audience. \nClick Here to Register\n \n\nDay 1 Tasting – $75\nDay 2 – $25\nDay 3 – $25\nAll 3 days (including tasting) – $100\n\nSummit Agenda:\n\nDay 1: Monday\, April 19\, 2021\nU.S. Sustainable Winegrowing Tasting and Seminar – Virtual\n11:30 am – 1 pm PT / 2:30 pm – 4 pm ET \nJoin us for a unique opportunity to taste four sustainably grown and produced wines from California\, Oregon\, New York and Washington\, paired with a discussion about sustainable winegrowing in the U.S. Tickets for the tasting include wine sample kits and will be available for purchase soon. \nDay 2: Tuesday\, April 20\, 2021\nSummit Session – Virtual\n10 am – 12 pm PT / 1 pm – 3 pm ETSummit sessions kick off with a summary of recent trade and consumer research on interest in sustainably produced wine\, and includes a keynote address on trends and observations on sustainable winegrowing in the U.S.\, and a panel discussion on how to message sustainability to consumers and trade. \nSummit Vineyard & Winery Tour – Virtual\n1 pm – 2 pm PT/ 4 pm – 5 pm ET \nVisit four sustainable vineyards and wineries in California\, Oregon\, New York and Washington (virtually!) and join in a discussion about sustainable practices in each region. \nDay 3: Wednesday\, April 21\, 2021\nSummit Session – Virtual\n10 am – 12 pm PT / 1 pm – 3 pm ET \nJoin us for a grower/vintner panel discussion on climate change resiliency. Additionally we will discuss what is next with sustainable winegrowing\, including how to meaningfully address diversity\, equity and inclusion in sustainable wineries and vineyards\, and how to communicate about the role of crop protection materials in sustainable vineyards while facing increasing pressure from stakeholders on its use.  \n \nFor information visit https://www.sustainablewinegrowing.org/summit/\nContact info@sustainablewinegrowing.org with any questions. \n\nHosted by:\nCalifornia Sustainable Winegrowing Alliance\, LIVE\, Long Island Sustainable Winegrowing\, Oregon Wine\, New York Wines\, Washington State Wine and Washington Winegrowers
URL:https://newyorkwines.org/event/u-s-sustainable-winegrowing-summit/
LOCATION:Virtual Event
CATEGORIES:Special Event
ATTACH;FMTTYPE=image/png:https://newyorkwines.org/wp-content/uploads/2021/01/2021-Summit-Virtual-Banner.png
ORGANIZER;CN="California Sustainable Winegrowing Alliance":MAILTO:info@sustainablewinegrowing.org
END:VEVENT
END:VCALENDAR