BEGIN:VCALENDAR
VERSION:2.0
PRODID:-//New York Wines - ECPv6.15.20//NONSGML v1.0//EN
CALSCALE:GREGORIAN
METHOD:PUBLISH
X-ORIGINAL-URL:https://newyorkwines.org
X-WR-CALDESC:Events for New York Wines
REFRESH-INTERVAL;VALUE=DURATION:PT1H
X-Robots-Tag:noindex
X-PUBLISHED-TTL:PT1H
BEGIN:VTIMEZONE
TZID:America/New_York
BEGIN:DAYLIGHT
TZOFFSETFROM:-0500
TZOFFSETTO:-0400
TZNAME:EDT
DTSTART:20220313T070000
END:DAYLIGHT
BEGIN:STANDARD
TZOFFSETFROM:-0400
TZOFFSETTO:-0500
TZNAME:EST
DTSTART:20221106T060000
END:STANDARD
BEGIN:DAYLIGHT
TZOFFSETFROM:-0500
TZOFFSETTO:-0400
TZNAME:EDT
DTSTART:20230312T070000
END:DAYLIGHT
BEGIN:STANDARD
TZOFFSETFROM:-0400
TZOFFSETTO:-0500
TZNAME:EST
DTSTART:20231105T060000
END:STANDARD
BEGIN:DAYLIGHT
TZOFFSETFROM:-0500
TZOFFSETTO:-0400
TZNAME:EDT
DTSTART:20240310T070000
END:DAYLIGHT
BEGIN:STANDARD
TZOFFSETFROM:-0400
TZOFFSETTO:-0500
TZNAME:EST
DTSTART:20241103T060000
END:STANDARD
BEGIN:DAYLIGHT
TZOFFSETFROM:-0500
TZOFFSETTO:-0400
TZNAME:EDT
DTSTART:20250309T070000
END:DAYLIGHT
BEGIN:STANDARD
TZOFFSETFROM:-0400
TZOFFSETTO:-0500
TZNAME:EST
DTSTART:20251102T060000
END:STANDARD
BEGIN:DAYLIGHT
TZOFFSETFROM:-0500
TZOFFSETTO:-0400
TZNAME:EDT
DTSTART:20260308T070000
END:DAYLIGHT
BEGIN:STANDARD
TZOFFSETFROM:-0400
TZOFFSETTO:-0500
TZNAME:EST
DTSTART:20261101T060000
END:STANDARD
BEGIN:DAYLIGHT
TZOFFSETFROM:-0500
TZOFFSETTO:-0400
TZNAME:EDT
DTSTART:20270314T070000
END:DAYLIGHT
BEGIN:STANDARD
TZOFFSETFROM:-0400
TZOFFSETTO:-0500
TZNAME:EST
DTSTART:20271107T060000
END:STANDARD
END:VTIMEZONE
BEGIN:VEVENT
DTSTART;VALUE=DATE:20251201
DTEND;VALUE=DATE:20260401
DTSTAMP:20260420T071504
CREATED:20240702T185526Z
LAST-MODIFIED:20251217T212314Z
UID:10001760-1764547200-1775001599@newyorkwines.org
SUMMARY:Paws & Pours Keuka Lake Wine Trail Tasting Passport
DESCRIPTION:A DOG-FRIENDLY EXPERIENCE\n\n\nDrink wine\, raise funds for animals in need!\n\n\nPaws & Pours is a fundraising initiative and our way of showing a warm welcome to you and your pups! Your purchase of this pass will go toward helping local animals at the Humane Society of Yates County in Penn Yan. All our member wineries are dog-friendly! \nThis pass is 100% digital and you don’t need to download an app to use it. With this pass\, everyone including the dogs will benefit. Human family members over the age of 21 will receive $2 off any glass of wine or wine flight at each participating winery\, and the dogs will get a small treat for being a great companion. \nGrab this pass for $15.00 and start exploring the Keuka Lake Wine Trail without leaving the furry family members at home. Enjoy the convenience and discounts while you make those core memories. \nPartial proceeds of pass sales are donated to the Humane Society of Yates County – Shelter of Hope.  \nPurchase your Paws & Pours Keuka Lake Tasting Passport Here
URL:https://newyorkwines.org/event/paws-pours-keuka-lake-wine-trail-tasting-passport/
CATEGORIES:Wine Trail Events
ATTACH;FMTTYPE=image/png:https://newyorkwines.org/wp-content/uploads/2024/07/Screenshot-2024-07-02-145246.png
END:VEVENT
BEGIN:VEVENT
DTSTART;TZID=America/New_York:20251108T100000
DTEND;TZID=America/New_York:20251108T170000
DTSTAMP:20260420T071504
CREATED:20241217T043457Z
LAST-MODIFIED:20250519T163810Z
UID:10001628-1762596000-1762621200@newyorkwines.org
SUMMARY:Handcrafted Holidays on the Keuka Lake Wine Trail
DESCRIPTION:Saturday\, November 8th\, 2025\n10:00 am – 5:00 pm\n$110/person (all inclusive of taxes & fees)\n\n\nGet ready for the holiday season along the Keuka Lake Wine Trail! Raise your glasses and your spirits as you take a self-guided tour of our member wineries. \nEnjoy a unique\, specially-prepared experience at each winery. This immersive and experiential event goes beyond a regular tasting room experience. You’ll have a custom itinerary for the day where you’ll be treated to special tastings\, wine samples\, and holiday inspired food pairings curated by Lake Life Catering.  \nYour ticket includes a unique tasting experience at six participating member wineries with a custom itinerary including 4 wine samples at each stop and food pairings. This is not just your average tasting! Experiences range from owner/winemaker led tastings\, behind the scenes discussions\, vertical tastings\, tasting unreleased wines\, and more. \n\n  \nLearn more and register here!
URL:https://newyorkwines.org/event/handcrafted-holiday/
CATEGORIES:Wine Trail Events
ATTACH;FMTTYPE=image/png:https://newyorkwines.org/wp-content/uploads/2024/12/Screenshot-2024-12-16-232954.png
END:VEVENT
BEGIN:VEVENT
DTSTART;TZID=America/New_York:20250426T100000
DTEND;TZID=America/New_York:20250426T170000
DTSTAMP:20260420T071504
CREATED:20241217T043310Z
LAST-MODIFIED:20241217T043310Z
UID:10001627-1745661600-1745686800@newyorkwines.org
SUMMARY:Wine and Cheese Lovers
DESCRIPTION:Saturday\, April 26th\, 2025\n10:00 am – 5:00 pm\n$110/person (all inclusive of taxes & fees)\n\n\nIt’s undeniable that wine and cheese complement each other\, which is why we have an event dedicated to the pairing of the two! \nEnjoy a unique\, specially-prepared experience at our member wineries along the Keuka Lake Wine Trail. This immersive and experiential event goes beyond a regular tasting room experience. You’ll have a custom itinerary for the day where you’ll be treated to special tastings\, wine samples\, and light food pairings featuring items curated by Lake Life Catering with cheese as the star ingredient.  \nYour ticket includes a unique tasting experience six participating member wineries with a custom itinerary including 4 wine samples at each stop and food pairings. This is not just your average tasting! Experiences range from owner/winemaker led tastings\, behind the scenes tours\, vertical tastings\, tasting unreleased wines\, and more. \n\n  \nLearn more and register here!
URL:https://newyorkwines.org/event/wine-and-cheese-lovers/
CATEGORIES:Wine Trail Events
ATTACH;FMTTYPE=image/png:https://newyorkwines.org/wp-content/uploads/2024/12/Screenshot-2024-12-16-232934.png
END:VEVENT
BEGIN:VEVENT
DTSTART;TZID=America/New_York:20250208T100000
DTEND;TZID=America/New_York:20250208T170000
DTSTAMP:20260420T071504
CREATED:20241217T043106Z
LAST-MODIFIED:20241217T043106Z
UID:10001626-1739008800-1739034000@newyorkwines.org
SUMMARY:Savoring Sweets
DESCRIPTION:Saturday\, February 8th\, 2025\n10:00 am – 5:00 pm\n$110/person (all inclusive of taxes & fees)\n\n\nThis immersive wine and food experience is a great opportunity to enjoy Keuka Lake in the winter – quieter\, tranquil\, and cozy! \nEnjoy a unique\, specially-prepared experience at our member wineries along Keuka Lake. This immersive and experiential event goes beyond a regular tasting room experience. You’ll have a custom itinerary for the day where you’ll be treated to special tastings\, wine samples\, and light food pairings featuring items curated by Lake Life Catering with a sweet inspiration in mind. \nYour ticket includes a unique tasting experience at six participating member wineries with a custom itinerary including 4 wine samples at each stop\, and sweet and savory pairings. This is not just your average tasting! Experiences range from owner/winemaker led tastings\, behind the scenes tours\, vertical tastings\, tasting unreleased wines\, and more!  \n\n\nLearn more and register here!
URL:https://newyorkwines.org/event/savoring-sweets-2/
CATEGORIES:Wine Trail Events
ATTACH;FMTTYPE=image/png:https://newyorkwines.org/wp-content/uploads/2024/12/Screenshot-2024-12-16-232919.png
END:VEVENT
BEGIN:VEVENT
DTSTART;TZID=America/New_York:20240427T100000
DTEND;TZID=America/New_York:20240427T170000
DTSTAMP:20260420T071504
CREATED:20240313T002805Z
LAST-MODIFIED:20240313T003625Z
UID:10001545-1714212000-1714237200@newyorkwines.org
SUMMARY:Wine and Cheese Lovers on the Keuka Lake Wine Trail
DESCRIPTION:Saturday\, April 27th\, 2024\n10:00 am – 5:00 pm\n$110/person (all inclusive of taxes & fees)\n\n\nTickets now available! Scroll below to select your starting winery and tickets. \nIt’s undeniable that wine and cheese complement each other\, which is why we have an event dedicated to the pairing of the two. Enjoy a unique\, specially-prepared experience at our six member wineries along the Wine Trail. You’ll have a custom itinerary for the day that includes five of the six participating wineries where you’ll be treated to special tastings\, wine samples\, and light food pairings featuring items curated by a local chef with cheese as the star ingredient.  \nYour ticket includes a unique tasting experience at 5 out of the 6 participating member wineries with a custom itinerary including 4 wine samples at each stop and food pairings. This is not just your average tasting! Experiences range from owner/winemaker led tastings & tours\, behind the scenes discussions\, vertical tastings\, tasting unreleased wines\, and more. \nFor tickets\, select an itinerary that determines your desired starting winery below. If you’re looking to hire transportation\, please view our transportation partners here. \nIf you need to purchase a ticket for a designated driver\, please use code DD2024 at check out to receive $25 off one ticket. The designated driver will receive a wristband to wear throughout the day. \n\nRegister Here
URL:https://newyorkwines.org/event/wine-and-cheese-lovers-on-the-keuka-lake-wine-trail/
LOCATION:Keuka Lake Wine Trail
CATEGORIES:Wine Trail Events
ATTACH;FMTTYPE=image/png:https://newyorkwines.org/wp-content/uploads/2024/03/Wine-and-Cheese-Lovers-Keuka-Lake-Wine-Trail.png
END:VEVENT
BEGIN:VEVENT
DTSTART;TZID=America/New_York:20240210T100000
DTEND;TZID=America/New_York:20240210T170000
DTSTAMP:20260420T071504
CREATED:20231212T154932Z
LAST-MODIFIED:20231212T155223Z
UID:10000791-1707559200-1707584400@newyorkwines.org
SUMMARY:Savoring Sweets
DESCRIPTION:The Keuka Lake Wine Trail brings you another immersive wine and food experience! Enjoy a unique\, specially-prepared experience at each of their five member wineries along Keuka Lake. You’ll have a custom itinerary for the day where you’ll be treated to special tastings\, wine samples\, and light food pairings featuring items curated by a local chef with a sweet inspiration in mind. \nYour ticket includes\, a unique tasting experience at all 5 member wineries with a custom itinerary including 4 wine samples at each stop and sweet pairings. This is not just your average tasting! Experiences range from owner/winemaker led tastings\, behind the scenes discussions\, vertical tastings\, tasting unreleased wines\, and more! \nGet your tickets here
URL:https://newyorkwines.org/event/savoring-sweets/
CATEGORIES:Wine Trail Events
ATTACH;FMTTYPE=image/png:https://newyorkwines.org/wp-content/uploads/2023/12/KLWT-Savoring-Sweets-NYWGF-Events-Calendar.png
END:VEVENT
BEGIN:VEVENT
DTSTART;TZID=America/New_York:20231111T100000
DTEND;TZID=America/New_York:20231111T170000
DTSTAMP:20260420T071504
CREATED:20231024T173427Z
LAST-MODIFIED:20231024T173427Z
UID:10000756-1699696800-1699722000@newyorkwines.org
SUMMARY:Handcrafted Holidays
DESCRIPTION:Get ready for the holiday season along the Keuka Lake Wine Trail! Raise your glasses and your spirits as you take a self-guided tour of our 5 member wineries. Enjoy a unique\, specially-prepared experience at each winery. You’ll have a custom itinerary for the day where you’ll be treated to special tastings\, wine samples\, and holiday inspired food pairings. \nSelect an itinerary that determines your desired starting winery here.
URL:https://newyorkwines.org/event/handcrafted-holidays/
CATEGORIES:Wine Trail Events
ATTACH;FMTTYPE=image/png:https://newyorkwines.org/wp-content/uploads/2023/10/klwt-holiday.png
END:VEVENT
END:VCALENDAR