BEGIN:VCALENDAR
VERSION:2.0
PRODID:-//New York Wines - ECPv6.15.20//NONSGML v1.0//EN
CALSCALE:GREGORIAN
METHOD:PUBLISH
X-WR-CALNAME:New York Wines
X-ORIGINAL-URL:https://newyorkwines.org
X-WR-CALDESC:Events for New York Wines
REFRESH-INTERVAL;VALUE=DURATION:PT1H
X-Robots-Tag:noindex
X-PUBLISHED-TTL:PT1H
BEGIN:VTIMEZONE
TZID:America/New_York
BEGIN:DAYLIGHT
TZOFFSETFROM:-0500
TZOFFSETTO:-0400
TZNAME:EDT
DTSTART:20220313T070000
END:DAYLIGHT
BEGIN:STANDARD
TZOFFSETFROM:-0400
TZOFFSETTO:-0500
TZNAME:EST
DTSTART:20221106T060000
END:STANDARD
BEGIN:DAYLIGHT
TZOFFSETFROM:-0500
TZOFFSETTO:-0400
TZNAME:EDT
DTSTART:20230312T070000
END:DAYLIGHT
BEGIN:STANDARD
TZOFFSETFROM:-0400
TZOFFSETTO:-0500
TZNAME:EST
DTSTART:20231105T060000
END:STANDARD
BEGIN:DAYLIGHT
TZOFFSETFROM:-0500
TZOFFSETTO:-0400
TZNAME:EDT
DTSTART:20240310T070000
END:DAYLIGHT
BEGIN:STANDARD
TZOFFSETFROM:-0400
TZOFFSETTO:-0500
TZNAME:EST
DTSTART:20241103T060000
END:STANDARD
BEGIN:DAYLIGHT
TZOFFSETFROM:-0500
TZOFFSETTO:-0400
TZNAME:EDT
DTSTART:20250309T070000
END:DAYLIGHT
BEGIN:STANDARD
TZOFFSETFROM:-0400
TZOFFSETTO:-0500
TZNAME:EST
DTSTART:20251102T060000
END:STANDARD
BEGIN:DAYLIGHT
TZOFFSETFROM:-0500
TZOFFSETTO:-0400
TZNAME:EDT
DTSTART:20260308T070000
END:DAYLIGHT
BEGIN:STANDARD
TZOFFSETFROM:-0400
TZOFFSETTO:-0500
TZNAME:EST
DTSTART:20261101T060000
END:STANDARD
END:VTIMEZONE
BEGIN:VEVENT
DTSTART;TZID=America/New_York:20251018T120000
DTEND;TZID=America/New_York:20251018T170000
DTSTAMP:20260420T174446
CREATED:20250108T204232Z
LAST-MODIFIED:20250108T204828Z
UID:10001646-1760788800-1760806800@newyorkwines.org
SUMMARY:Hallowine Murder Mystery on the Niagara Wine Trail
DESCRIPTION:Wine tasting paired with . . . murder! \nSaturday\, October 18th \nJoin us for a murder mystery along the Niagara Wine Trail. Come as yourself or in costume!\nCollect clues and interview a different suspect character at each participating winery to solve the murder mystery. \nChoose from General tasting or VIP tickets. \nGeneral Tasting Ticket Includes: \n\nSouvenir Wine Glass\nMurder Mystery story\n3 tastes of wine at each of the participating wineries once on 10/18/25\n\nVIP Includes General Tasting Ticket plus: \n\nTransportation via a Discover Niagara Bus between wineries.\nBus will start and end at Hotel (TBD) for VIP tickets only\nPre-sale tickets for VIP available online only. Limited quantities available.\n\nTastings are valid for Saturday during the event.\nTicket pre-sales online end October 15th. Tickets available to purchase at the wineries during the event. \n\n\n\n\n\nHours: \n\nSaturday 12pm-5pm \n\n\n\n  \nLearn more and register here!
URL:https://newyorkwines.org/event/hallowine-murder-mystery-on-the-niagara-wine-trail/
CATEGORIES:Wine Trail Events
ATTACH;FMTTYPE=image/jpeg:https://newyorkwines.org/wp-content/uploads/2025/01/hallowine_620x620-320x202-1.jpg
END:VEVENT
BEGIN:VEVENT
DTSTART;TZID=America/New_York:20250927T120000
DTEND;TZID=America/New_York:20250928T170000
DTSTAMP:20260420T174446
CREATED:20250108T203859Z
LAST-MODIFIED:20250610T185226Z
UID:10001645-1758974400-1759078800@newyorkwines.org
SUMMARY:Harvest Festival on the Niagara Wine Trail
DESCRIPTION:Celebrate the harvest with local wines paired with seasonal foods\nSaturday\, September 27th and Sunday\, September 28th \nTake a self-guided tour along the Niagara Wine Trail this weekend and have some fun with your closest friends and loved ones. \nGet inspiration for a night in or what to serve at your next dinner party with samples of a harvest themed appetizer\, salad\, soup\, side dish\, or dessert with your wine pairing at each participating member winery. \n  \nWine tasting ticket includes: \n\nTasting of 3 wines from each participating winery location\nA food sample to pair with your wine tasting from each winery\n1 keepsake wine glass from your starting winery\n\n\n\n\n\n\n\n\n\n\nHours: \nSaturday 12pm-5pm\nSunday 12pm-5pm \n\n\n\nRegister and learn more here!
URL:https://newyorkwines.org/event/harvest-festival-on-the-niagara-wine-trail/
CATEGORIES:Wine Trail Events
ATTACH;FMTTYPE=image/jpeg:https://newyorkwines.org/wp-content/uploads/2025/01/Harvest-Festival-square_NWT_site-320x202-1.jpg
END:VEVENT
BEGIN:VEVENT
DTSTART;TZID=America/New_York:20250607T120000
DTEND;TZID=America/New_York:20250608T170000
DTSTAMP:20260420T174446
CREATED:20250108T203518Z
LAST-MODIFIED:20250108T203518Z
UID:10001644-1749297600-1749402000@newyorkwines.org
SUMMARY:Wine & Charcuterie on the Niagara Wine Trail
DESCRIPTION:Wine and charcuterie meats and cheeses pairing experience\nSaturday\, June 7th and Sunday\, June 8th \nJoin us for a unique weekend tasting experience with local wine pairings! \nTake a self-guided tour along the Niagara Wine Trail this summer and get inspiration on how to incorporate wine and the art of charcuterie at your next gathering. As you sample 3 wines from each participating winery\, enjoy samples of cheeses\, meats\, dips\, and other essentials\, along with how-to presentations you can incorporate into making your own board. \nWine tasting ticket includes: \n\nTasting of 3 wines from each participating winery location\nA cheese sample to pair with your wine tasting from each winery\n1 keepsake wine glass from your starting winery\n\n\n\n\n\n\n\n\n\n\nHours: \nSaturday 12pm-5pm\nSunday 12pm-5pm \n\n\n\nLearn more and register here!
URL:https://newyorkwines.org/event/wine-charcuterie-on-the-niagara-wine-trail/
CATEGORIES:Wine Trail Events
ATTACH;FMTTYPE=image/jpeg:https://newyorkwines.org/wp-content/uploads/2025/01/wine_and_charcuterie_2025_600x620-320x202-1.jpg
END:VEVENT
BEGIN:VEVENT
DTSTART;VALUE=DATE:20250101
DTEND;VALUE=DATE:20250201
DTSTAMP:20260420T174446
CREATED:20241217T043824Z
LAST-MODIFIED:20241217T043824Z
UID:10001629-1735689600-1738367999@newyorkwines.org
SUMMARY:Niagara Wine Trail Annual Event Pass
DESCRIPTION:2025 Calendar\n\nJanuary 1 – March 31: Winter Wine Pass\n\n$40 each\n\n\nJanuary Weekends: Warm up with Wine\n\nNo ticket necessary; Purchase directly from participating wineries\nSoup\, Mulled Wine & Warm Treats!\n\n\nFebruary 15-16: Be Mine with Wine*\n\n$30 each\, $35 at the door\, $20 designated drivers\n\n\nApril 5: Vino at the Casino*\n\nVIP Admission 1-2pm $50 each\, General Admission 2-5pm $40 each\n$45 at the door\, $35 designated drivers\n\n\nMay 3-4: Mother’s Day Traveling Market\n\nNo ticket necessary; Purchase directly from participating wineries\n\n\nJune 7-8: Wine and Cheese*\n\n$35 each\, $40 at the door\, $20 designated drivers\n\n\nJuly 26 & 27: Niagara Wine & Food Festival\n\nOld Falls Street\, Niagara Falls USA. Purchase tastings directly at the festival\n\n\nSeptember 27-28: Harvest Festival*\n\n$35 each\, $40 at the door\, $20 designated drivers\n\n\nOctober 18: Hallowine*\n\nVIP pass $50each\, $35each\, $40 at the door. Details to come!\n\n\nNovember 8-9: Share the Bounty*\n\n$35 each\, $40 at the door\, $20 designated drivers\nA new fundraiser event to benefit the Niagara Wine Trail Scholarship\n\n\nDecember 6-7: Holiday Happening*\n\n$50 single\, $75 couple\, $30 designated drivers\n\n\n\n  \nAnnual Pass includes one single ticket to each of the following events: \n\nBe Mine with Wine\nVino at the Casino\nWine and Cheese\nHarvest Festival\nHallowine\nShare the Bounty\nHoliday Happening\n\n  \nLearn more and purchase here!
URL:https://newyorkwines.org/event/niagara-wine-trail-annual-event-pass/
CATEGORIES:Wine Trail Events
ATTACH;FMTTYPE=image/png:https://newyorkwines.org/wp-content/uploads/2023/09/NWT_Full_Logo_NY_Text_and_glass_color.png
END:VEVENT
BEGIN:VEVENT
DTSTART;TZID=America/New_York:20240727T120000
DTEND;TZID=America/New_York:20240727T180000
DTSTAMP:20260420T174446
CREATED:20240611T172410Z
LAST-MODIFIED:20240611T173154Z
UID:10001575-1722081600-1722103200@newyorkwines.org
SUMMARY:Niagara Wine Trail Wine Festival
DESCRIPTION:Niagara Wine Trail Wine Festival – July 27 & 28\, 2024\nTickets: \n$40 (pre-sale until 7/26 @ 9pm)\n$45 at the door Wine Tasting & General Admission\nDesignated drivers no charge. All ages event \nValid BOTH days:\nSaturday\, July 27 from 12:00 to 6:00 pm\nSaturday\, July 28 from 12:00 to 5:00 pm \n\n\nLocation: Academy Park\, Lewiston\, NY\nParking: There is free parking around the Village \n\n\nFestival Schedule:\n\n\n\nSaturday\, July 27\, 2024\n\n12:00–6:00pm: Wine tasting $40 pre-sale/$45 during event. Plus local food and vendors\, farmers market\, DJ music\, and bottles sales\n6:00–8:00pm: Wine glass and bottle sales from participating wineries\n7:00–9:00pm: Free BPO Concert sponsored by Anthony DiMino\, Lewiston Tops CEO (BYO seating). BPO organized by Lewiston Council on the Arts.\n\n\n\n\nSunday\, July 28\, 2024\n\n12:00–5:00pm: Wine tasting $40 pre-sale/$45 during event\nPerformances by Lewiston/ Grand Island Dance\, local food and vendors\, farmers market\, DJ music\, and bottles sales\n\n\n\n\nWine Tasting Tickets Include:\n\nShopping and pickup service to keep your hands free while tasting (purchases will not be kept overnight)\n3 tastes at each of the participating wineries once over both days of the festival. Must have tasting wristband for each day you are tasting. (ID is required\, ages 21+)\nKeepsake wine glass (while supplies last)\n\nTickets are valid for both days.\nThe ticket holder is responsible for their ticket and tasting glass.\nLost tickets and/or glasses will not be replaced. \n\nRegister Here
URL:https://newyorkwines.org/event/niagara-wine-trail-wine-festival/
CATEGORIES:Wine Trail Events
ATTACH;FMTTYPE=image/jpeg:https://newyorkwines.org/wp-content/uploads/2024/06/1000x288-banner-bottle-festival-1.jpg
END:VEVENT
BEGIN:VEVENT
DTSTART;TZID=America/New_York:20240601T120000
DTEND;TZID=America/New_York:20240601T170000
DTSTAMP:20260420T174446
CREATED:20240423T194226Z
LAST-MODIFIED:20240423T200645Z
UID:10001560-1717243200-1717261200@newyorkwines.org
SUMMARY:Wine & Charcuterie
DESCRIPTION:Wine and charcuterie meats and cheeses pairing experience\n\nJune 1 & 2\, 2024 \n\n\nJoin us for a unique weekend tasting experience! Sponsored by Yancey’s Fancy and Finger Lakes Artisan foods\n \nLocal Wine Pairings\nTake a self-guided tour along the wine trail this summer and get inspiration on how to incorporate wine and the art of charcuterie at your next gathering. As you sample 3 wines from each participating winery\, enjoy samples of cheeses\, meats\, dips\, and other essentials\, along with how-to presentations you can incorporate into making your own board.  \n\nYour 2-DAY tasting pass includes:\n• 1 keepsake wine glass\n• 3 tastes of wine and a pairing at each of the participating wineries: \n\n\n\n\n\nA Gust of Sun Winery\nAnthony Manor Winery\nBella Rose Vineyard & Winery\nBlack Willow Winery\nHoneymoon Trail Winery\nLong Cliff Vineyard & Winery\n\n\n\n\nMayer’s Lake Ontario Winery\nSchulze Vineyards & Winery\nVictorianbourg Wine Estate\nVizcarra Vineyards at Becker Farms\nThe Winery at Marjim Manor\n\n\n\n\n\n\n\nHOW IT WORKS:\n\n\n\nTickets are valid both Saturday 6/1 & Sunday 6/2. Please choose your starting date and starting winery to help us plan for tastings.\nComplete your order\nSave the order confirmation emailed to you. THIS WILL BE YOUR TASTING PASS\nShow your confirmation at the starting winery you chose when purchasing to check in\nRetain your confirmation and show it at each winery thereafter to redeem your tastings\n\n\n\n\n\n\n\n\n\n\nFeatured Pairings: \n\nTBA\n\n\n\nRegister Here
URL:https://newyorkwines.org/event/wine-charcuterie/
LOCATION:Niagara Wine Trail
CATEGORIES:Wine Trail Events
ATTACH;FMTTYPE=image/jpeg:https://newyorkwines.org/wp-content/uploads/2024/04/wine_and_charcuterie_web_cover.jpg
END:VEVENT
BEGIN:VEVENT
DTSTART;TZID=America/New_York:20240427T130000
DTEND;TZID=America/New_York:20240427T170000
DTSTAMP:20260420T174446
CREATED:20240313T005116Z
LAST-MODIFIED:20240313T005116Z
UID:10001551-1714222800-1714237200@newyorkwines.org
SUMMARY:Vino at the Casino
DESCRIPTION:Join Niagara Wine Trail wineries for tastings\, bottle sales and games of chance at the Batavia Downs & Hotel.\n\nChoose either the VIP or General Admission tickets. \nEvery Ticket Includes: \n\nSouvenir Wine Glass\n$25 Free Play voucher from Batavia Downs\nVoucher for $5 off a $10 food purchase at Batavia Downs restaurants the day of the event\nWine samples from participating wineries from 2pm – 5pm *not included in designated driver ticket\nWine Purchase Check Service\n\nVIP Includes: \n\nExtra VIP tasting hour from 1pm – 2pm\nComplimentary Appetizer Station during VIP hour\nExclusive Bottle Discounts during VIP hour\nSwag VIP Bag! A six-bottle wine tote filled with goodies from our vendors and sponsors\n\n\nParticipating Wineries:  \n\nA Gust of Sun Winery\nBella Rose Winery & Vineyard\nLong Cliff Vineyard & Winery\nMayer’s Lake Ontario Winery\nSchulze Vineyards & Winery\nVictorianbourg Wine Estate\nVizcarra Vineyards at Becker Farms\nThe Winery at Marjim Manor\n\n\nParticipating Local Vendors: \n\n3 Sisters Garlic\nImagine Wreaths\nTwist & Stitched\nTwo Birds Craft Works\nVessel\n\n\nTickets price does not include taxes and does not include transportation.\nA valid photo ID with proof of age is required to participate in wine tasting. Please have your ID ready upon arrival.\n \nYou will receive your tasting ticket\, wristband and keepsake glass upon arrival. \n\nRegister Here
URL:https://newyorkwines.org/event/vino-at-the-casino/
CATEGORIES:Wine Trail Events
ATTACH;FMTTYPE=image/jpeg:https://newyorkwines.org/wp-content/uploads/2024/03/vatc_insta_slots-2024-320x202-1.jpg
END:VEVENT
BEGIN:VEVENT
DTSTART;TZID=America/New_York:20231203T120000
DTEND;TZID=America/New_York:20231203T170000
DTSTAMP:20260420T174446
CREATED:20231024T175226Z
LAST-MODIFIED:20231024T175247Z
UID:10000767-1701604800-1701622800@newyorkwines.org
SUMMARY:Holiday Happening
DESCRIPTION:Sample wine at your local Niagara Wine Trail Wineries and get ready for the holiday season. \nEach single and couple ticket includes an appetizer party plate from each winery. With the party plate you can easily hold your food and drink with one hand\, and leave your other hand free while you mingle. Collect a whole set to use at your next gathering! \nValid for Saturday AND Sunday\, each ticket includes a tasting of 3 wines from each participating winery location and one party plate from each winery visited.\nCouples ticket includes wine tasting for two people and one plate per couple. \nTicket sales online end November 30th or when sold out. Tickets may be purchased during the event if not sold out. Party plate gifts available while supplies last. \n\nYour 2-DAY pass includes:\n3 tastes of wine at each of the participating wineries once over the two day event. \n\nClick Here for Tickets
URL:https://newyorkwines.org/event/holiday-happening/2023-12-03/
CATEGORIES:Wine Trail Events
ATTACH;FMTTYPE=image/jpeg:https://newyorkwines.org/wp-content/uploads/2023/10/NWT-app-plate-flatlay-768x512-1.jpg
END:VEVENT
BEGIN:VEVENT
DTSTART;TZID=America/New_York:20231202T100000
DTEND;TZID=America/New_York:20231202T170000
DTSTAMP:20260420T174446
CREATED:20231024T175226Z
LAST-MODIFIED:20231024T175247Z
UID:10000766-1701511200-1701536400@newyorkwines.org
SUMMARY:Holiday Happening
DESCRIPTION:Sample wine at your local Niagara Wine Trail Wineries and get ready for the holiday season. \nEach single and couple ticket includes an appetizer party plate from each winery. With the party plate you can easily hold your food and drink with one hand\, and leave your other hand free while you mingle. Collect a whole set to use at your next gathering! \nValid for Saturday AND Sunday\, each ticket includes a tasting of 3 wines from each participating winery location and one party plate from each winery visited.\nCouples ticket includes wine tasting for two people and one plate per couple. \nTicket sales online end November 30th or when sold out. Tickets may be purchased during the event if not sold out. Party plate gifts available while supplies last. \n\nYour 2-DAY pass includes:\n3 tastes of wine at each of the participating wineries once over the two day event. \n\nClick Here for Tickets
URL:https://newyorkwines.org/event/holiday-happening/2023-12-02/
CATEGORIES:Wine Trail Events
ATTACH;FMTTYPE=image/jpeg:https://newyorkwines.org/wp-content/uploads/2023/10/NWT-app-plate-flatlay-768x512-1.jpg
END:VEVENT
BEGIN:VEVENT
DTSTART;VALUE=DATE:20231111
DTEND;VALUE=DATE:20231113
DTSTAMP:20260420T174446
CREATED:20231024T173831Z
LAST-MODIFIED:20231024T173831Z
UID:10000757-1699660800-1699833599@newyorkwines.org
SUMMARY:Share the Bounty
DESCRIPTION:Our annual fundraising event to benefit food banks\, food pantries and charities along the Niagara Wine Trail. Each winery accepts either a monetary donation or a non-perishable donation in exchange for tastings this weekend. \nNo passes or tickets needed to participate. Please click here for how to make a donation in exchange for your tasting.
URL:https://newyorkwines.org/event/share-the-bounty/
CATEGORIES:Wine Trail Events
ATTACH;FMTTYPE=image/jpeg:https://newyorkwines.org/wp-content/uploads/2023/10/harvest-fest-900x200-header-800x178-1.jpg
END:VEVENT
END:VCALENDAR